BEGIN:VCALENDAR
VERSION:2.0
PRODID:-//destination.one//NONSGML destination.meta API//DE
X-WR-CALDESC:A calendar powered by destination.meta
X-WR-CALNAME:zinnowitz Kalender via destination.meta
BEGIN:VEVENT
CATEGORIES:Führung/Exkursion
CATEGORIES:Vortrag
CATEGORIES:Wandern
CATEGORIES:UsedomCard
CATEGORIES:Open Air
DESCRIPTION:\n\nmehr Informationen unter http://pages.destination.one/de/zi
 nnowitz/streaming/detail/Event/e_100127287/ortsf-hrung-au-er-gruppen
DTEND;TZID=Europe/Berlin:20210608T120000
DTSTAMP:20260420T104746Z
DTSTART;TZID=Europe/Berlin:20210608T100000
GEO:54.080466;13.914850
LOCATION:Haus des Gastes\, Neue Strandstraße 30\, Zinnowitz
ORGANIZER;CN=Eigenbetrieb Kurverwaltung der Gemeinde Ostseebad Zinnowitz:ma
 ilto:info@kv-zinnowitz.de
RRULE:FREQ=WEEKLY;UNTIL=20211220T110000;BYDAY=TU
SEQUENCE:0
SUMMARY:Ortsführung (außer Gruppen)
UID:e_100127287_iv0
URL:http://pages.destination.one/de/zinnowitz/streaming/detail/Event/e_1001
 27287/ortsf-hrung-au-er-gruppen
END:VEVENT
BEGIN:VEVENT
CATEGORIES:Führung/Exkursion
CATEGORIES:Vortrag
CATEGORIES:Wandern
CATEGORIES:UsedomCard
CATEGORIES:Open Air
DESCRIPTION:\n\nmehr Informationen unter http://pages.destination.one/de/zi
 nnowitz/streaming/detail/Event/e_100127287/ortsf-hrung-au-er-gruppen
DTEND;TZID=Europe/Berlin:20220125T120000
DTSTAMP:20260420T104746Z
DTSTART;TZID=Europe/Berlin:20220125T100000
GEO:54.080466;13.914850
LOCATION:Haus des Gastes\, Neue Strandstraße 30\, Zinnowitz
ORGANIZER;CN=Eigenbetrieb Kurverwaltung der Gemeinde Ostseebad Zinnowitz:ma
 ilto:info@kv-zinnowitz.de
RRULE:FREQ=WEEKLY;UNTIL=20220524T100000;BYDAY=TU
SEQUENCE:0
SUMMARY:Ortsführung (außer Gruppen)
UID:e_100127287_iv1
URL:http://pages.destination.one/de/zinnowitz/streaming/detail/Event/e_1001
 27287/ortsf-hrung-au-er-gruppen
END:VEVENT
BEGIN:VEVENT
CATEGORIES:Führung/Exkursion
CATEGORIES:Vortrag
CATEGORIES:Wandern
CATEGORIES:UsedomCard
CATEGORIES:Open Air
DESCRIPTION:\n\nmehr Informationen unter http://pages.destination.one/de/zi
 nnowitz/streaming/detail/Event/e_100127287/ortsf-hrung-au-er-gruppen
DTEND;TZID=Europe/Berlin:20220607T120000
DTSTAMP:20260420T104746Z
DTSTART;TZID=Europe/Berlin:20220607T100000
GEO:54.080466;13.914850
LOCATION:Haus des Gastes\, Neue Strandstraße 30\, Zinnowitz
ORGANIZER;CN=Eigenbetrieb Kurverwaltung der Gemeinde Ostseebad Zinnowitz:ma
 ilto:info@kv-zinnowitz.de
RRULE:FREQ=WEEKLY;UNTIL=20221206T110000;BYDAY=TU
SEQUENCE:0
SUMMARY:Ortsführung (außer Gruppen)
UID:e_100127287_iv2
URL:http://pages.destination.one/de/zinnowitz/streaming/detail/Event/e_1001
 27287/ortsf-hrung-au-er-gruppen
END:VEVENT
BEGIN:VEVENT
CATEGORIES:Führung/Exkursion
CATEGORIES:Vortrag
CATEGORIES:Wandern
CATEGORIES:UsedomCard
CATEGORIES:Open Air
DESCRIPTION:\n\nmehr Informationen unter http://pages.destination.one/de/zi
 nnowitz/streaming/detail/Event/e_100127287/ortsf-hrung-au-er-gruppen
DTEND;TZID=Europe/Berlin:20221220T120000
DTSTAMP:20260420T104746Z
DTSTART;TZID=Europe/Berlin:20221220T100000
GEO:54.080466;13.914850
LOCATION:Haus des Gastes\, Neue Strandstraße 30\, Zinnowitz
ORGANIZER;CN=Eigenbetrieb Kurverwaltung der Gemeinde Ostseebad Zinnowitz:ma
 ilto:info@kv-zinnowitz.de
SEQUENCE:0
SUMMARY:Ortsführung (außer Gruppen)
UID:e_100127287_iv3
URL:http://pages.destination.one/de/zinnowitz/streaming/detail/Event/e_1001
 27287/ortsf-hrung-au-er-gruppen
END:VEVENT
BEGIN:VEVENT
CATEGORIES:Führung/Exkursion
CATEGORIES:Vortrag
CATEGORIES:Wandern
CATEGORIES:UsedomCard
CATEGORIES:Open Air
DESCRIPTION:\n\nmehr Informationen unter http://pages.destination.one/de/zi
 nnowitz/streaming/detail/Event/e_100127287/ortsf-hrung-au-er-gruppen
DTEND;TZID=Europe/Berlin:20221227T120000
DTSTAMP:20260420T104746Z
DTSTART;TZID=Europe/Berlin:20221227T100000
GEO:54.080466;13.914850
LOCATION:Haus des Gastes\, Neue Strandstraße 30\, Zinnowitz
ORGANIZER;CN=Eigenbetrieb Kurverwaltung der Gemeinde Ostseebad Zinnowitz:ma
 ilto:info@kv-zinnowitz.de
SEQUENCE:0
SUMMARY:Ortsführung (außer Gruppen)
UID:e_100127287_iv4
URL:http://pages.destination.one/de/zinnowitz/streaming/detail/Event/e_1001
 27287/ortsf-hrung-au-er-gruppen
END:VEVENT
BEGIN:VEVENT
CATEGORIES:Führung/Exkursion
CATEGORIES:Vortrag
CATEGORIES:Wandern
CATEGORIES:UsedomCard
CATEGORIES:Open Air
DESCRIPTION:\n\nmehr Informationen unter http://pages.destination.one/de/zi
 nnowitz/streaming/detail/Event/e_100127287/ortsf-hrung-au-er-gruppen
DTEND;TZID=Europe/Berlin:20230103T120000
DTSTAMP:20260420T104746Z
DTSTART;TZID=Europe/Berlin:20230103T100000
GEO:54.080466;13.914850
LOCATION:Haus des Gastes\, Neue Strandstraße 30\, Zinnowitz
ORGANIZER;CN=Eigenbetrieb Kurverwaltung der Gemeinde Ostseebad Zinnowitz:ma
 ilto:info@kv-zinnowitz.de
RRULE:FREQ=WEEKLY;UNTIL=20231227T110000;BYDAY=TU
SEQUENCE:0
SUMMARY:Ortsführung (außer Gruppen)
UID:e_100127287_iv5
URL:http://pages.destination.one/de/zinnowitz/streaming/detail/Event/e_1001
 27287/ortsf-hrung-au-er-gruppen
END:VEVENT
BEGIN:VEVENT
CATEGORIES:Führung/Exkursion
CATEGORIES:Vortrag
CATEGORIES:Wandern
CATEGORIES:UsedomCard
CATEGORIES:Open Air
DESCRIPTION:\n\nmehr Informationen unter http://pages.destination.one/de/zi
 nnowitz/streaming/detail/Event/e_100127287/ortsf-hrung-au-er-gruppen
DTEND;TZID=Europe/Berlin:20240102T120000
DTSTAMP:20260420T104746Z
DTSTART;TZID=Europe/Berlin:20240102T100000
GEO:54.080466;13.914850
LOCATION:Haus des Gastes\, Neue Strandstraße 30\, Zinnowitz
ORGANIZER;CN=Eigenbetrieb Kurverwaltung der Gemeinde Ostseebad Zinnowitz:ma
 ilto:info@kv-zinnowitz.de
RRULE:FREQ=WEEKLY;UNTIL=20240311T110000;BYDAY=TU
SEQUENCE:0
SUMMARY:Ortsführung (außer Gruppen)
UID:e_100127287_iv6
URL:http://pages.destination.one/de/zinnowitz/streaming/detail/Event/e_1001
 27287/ortsf-hrung-au-er-gruppen
END:VEVENT
BEGIN:VEVENT
CATEGORIES:Führung/Exkursion
CATEGORIES:Vortrag
CATEGORIES:Wandern
CATEGORIES:UsedomCard
CATEGORIES:Open Air
DESCRIPTION:\n\nmehr Informationen unter http://pages.destination.one/de/zi
 nnowitz/streaming/detail/Event/e_100127287/ortsf-hrung-au-er-gruppen
DTEND;TZID=Europe/Berlin:20240319T120000
DTSTAMP:20260420T104746Z
DTSTART;TZID=Europe/Berlin:20240319T100000
GEO:54.080466;13.914850
LOCATION:Haus des Gastes\, Neue Strandstraße 30\, Zinnowitz
ORGANIZER;CN=Eigenbetrieb Kurverwaltung der Gemeinde Ostseebad Zinnowitz:ma
 ilto:info@kv-zinnowitz.de
RRULE:FREQ=WEEKLY;UNTIL=20241217T110000;BYDAY=TU
SEQUENCE:0
SUMMARY:Ortsführung (außer Gruppen)
UID:e_100127287_iv7
URL:http://pages.destination.one/de/zinnowitz/streaming/detail/Event/e_1001
 27287/ortsf-hrung-au-er-gruppen
END:VEVENT
BEGIN:VEVENT
CATEGORIES:Führung/Exkursion
CATEGORIES:Vortrag
CATEGORIES:Wandern
CATEGORIES:UsedomCard
CATEGORIES:Open Air
DESCRIPTION:\n\nmehr Informationen unter http://pages.destination.one/de/zi
 nnowitz/streaming/detail/Event/e_100127287/ortsf-hrung-au-er-gruppen
DTEND;TZID=Europe/Berlin:20250107T120000
DTSTAMP:20260420T104746Z
DTSTART;TZID=Europe/Berlin:20250107T100000
GEO:54.080466;13.914850
LOCATION:Haus des Gastes\, Neue Strandstraße 30\, Zinnowitz
ORGANIZER;CN=Eigenbetrieb Kurverwaltung der Gemeinde Ostseebad Zinnowitz:ma
 ilto:info@kv-zinnowitz.de
RRULE:FREQ=WEEKLY;UNTIL=20251124T110000;BYDAY=TU
SEQUENCE:0
SUMMARY:Ortsführung (außer Gruppen)
UID:e_100127287_iv8
URL:http://pages.destination.one/de/zinnowitz/streaming/detail/Event/e_1001
 27287/ortsf-hrung-au-er-gruppen
END:VEVENT
BEGIN:VEVENT
CATEGORIES:Führung/Exkursion
CATEGORIES:Vortrag
CATEGORIES:Wandern
CATEGORIES:UsedomCard
CATEGORIES:Open Air
DESCRIPTION:\n\nmehr Informationen unter http://pages.destination.one/de/zi
 nnowitz/streaming/detail/Event/e_100127287/ortsf-hrung-au-er-gruppen
DTEND;TZID=Europe/Berlin:20251202T120000
DTSTAMP:20260420T104746Z
DTSTART;TZID=Europe/Berlin:20251202T100000
GEO:54.080466;13.914850
LOCATION:Haus des Gastes\, Neue Strandstraße 30\, Zinnowitz
ORGANIZER;CN=Eigenbetrieb Kurverwaltung der Gemeinde Ostseebad Zinnowitz:ma
 ilto:info@kv-zinnowitz.de
RRULE:FREQ=WEEKLY;UNTIL=20251215T110000;BYDAY=TU
SEQUENCE:0
SUMMARY:Ortsführung (außer Gruppen)
UID:e_100127287_iv9
URL:http://pages.destination.one/de/zinnowitz/streaming/detail/Event/e_1001
 27287/ortsf-hrung-au-er-gruppen
END:VEVENT
BEGIN:VEVENT
CATEGORIES:Führung/Exkursion
CATEGORIES:Vortrag
CATEGORIES:Wandern
CATEGORIES:UsedomCard
CATEGORIES:Open Air
DESCRIPTION:\n\nmehr Informationen unter http://pages.destination.one/de/zi
 nnowitz/streaming/detail/Event/e_100127287/ortsf-hrung-au-er-gruppen
DTEND;TZID=Europe/Berlin:20260127T120000
DTSTAMP:20260420T104746Z
DTSTART;TZID=Europe/Berlin:20260127T100000
GEO:54.080466;13.914850
LOCATION:Haus des Gastes\, Neue Strandstraße 30\, Zinnowitz
ORGANIZER;CN=Eigenbetrieb Kurverwaltung der Gemeinde Ostseebad Zinnowitz:ma
 ilto:info@kv-zinnowitz.de
RRULE:FREQ=WEEKLY;UNTIL=20261228T110000;BYDAY=TU
SEQUENCE:0
SUMMARY:Ortsführung (außer Gruppen)
UID:e_100127287_iv10
URL:http://pages.destination.one/de/zinnowitz/streaming/detail/Event/e_1001
 27287/ortsf-hrung-au-er-gruppen
END:VEVENT
BEGIN:VTIMEZONE
TZID:Europe/Berlin
X-LIC-LOCATION:Europe/Berlin
BEGIN:DAYLIGHT
DTSTART:19700329T020000
RRULE:FREQ=YEARLY;BYDAY=-1SU;BYMONTH=3
TZNAME:CEST
TZOFFSETFROM:+0100
TZOFFSETTO:+0200
END:DAYLIGHT
BEGIN:STANDARD
DTSTART:19701025T030000
RRULE:FREQ=YEARLY;BYDAY=-1SU;BYMONTH=10
TZNAME:CET
TZOFFSETFROM:+0200
TZOFFSETTO:+0100
END:STANDARD
END:VTIMEZONE
END:VCALENDAR
