BEGIN:VCALENDAR
VERSION:2.0
PRODID:-//destination.one//NONSGML destination.meta API//DE
X-WR-CALDESC:A calendar powered by destination.meta
X-WR-CALNAME:zinnowitz Kalender via destination.meta
BEGIN:VEVENT
CATEGORIES:Vortrag
DESCRIPTION:\n\nmehr Informationen unter http://pages.destination.one/de/zi
 nnowitz/streaming/detail/Event/e_100127557/vortrag-die-aktion-rose-1953
DTEND;TZID=Europe/Berlin:20230712T203000
DTSTAMP:20260422T085116Z
DTSTART;TZID=Europe/Berlin:20230712T193000
GEO:54.075917;13.903341
LOCATION:Museum im Bahnhof\, Am Bahnhof 1\, Zinnowitz
SEQUENCE:0
SUMMARY:Vortrag "Die Aktion Rose 1953"
UID:e_100127557_iv0
URL:http://pages.destination.one/de/zinnowitz/streaming/detail/Event/e_1001
 27557/vortrag-die-aktion-rose-1953
END:VEVENT
BEGIN:VEVENT
CATEGORIES:Vortrag
DESCRIPTION:\n\nmehr Informationen unter http://pages.destination.one/de/zi
 nnowitz/streaming/detail/Event/e_100127557/vortrag-die-aktion-rose-1953
DTEND;TZID=Europe/Berlin:20231004T203000
DTSTAMP:20260422T085116Z
DTSTART;TZID=Europe/Berlin:20231004T193000
GEO:54.075917;13.903341
LOCATION:Museum im Bahnhof\, Am Bahnhof 1\, Zinnowitz
SEQUENCE:0
SUMMARY:Vortrag "Die Aktion Rose 1953"
UID:e_100127557_iv1
URL:http://pages.destination.one/de/zinnowitz/streaming/detail/Event/e_1001
 27557/vortrag-die-aktion-rose-1953
END:VEVENT
BEGIN:VEVENT
CATEGORIES:Vortrag
DESCRIPTION:\n\nmehr Informationen unter http://pages.destination.one/de/zi
 nnowitz/streaming/detail/Event/e_100127557/vortrag-die-aktion-rose-1953
DTEND;TZID=Europe/Berlin:20240807T210000
DTSTAMP:20260422T085116Z
DTSTART;TZID=Europe/Berlin:20240807T193000
GEO:54.075917;13.903341
LOCATION:Museum im Bahnhof\, Am Bahnhof 1\, Zinnowitz
SEQUENCE:0
SUMMARY:Vortrag "Die Aktion Rose 1953"
UID:e_100127557_iv2
URL:http://pages.destination.one/de/zinnowitz/streaming/detail/Event/e_1001
 27557/vortrag-die-aktion-rose-1953
END:VEVENT
BEGIN:VEVENT
CATEGORIES:Vortrag
DESCRIPTION:\n\nmehr Informationen unter http://pages.destination.one/de/zi
 nnowitz/streaming/detail/Event/e_100127557/vortrag-die-aktion-rose-1953
DTEND;TZID=Europe/Berlin:20241002T210000
DTSTAMP:20260422T085116Z
DTSTART;TZID=Europe/Berlin:20241002T193000
GEO:54.075917;13.903341
LOCATION:Museum im Bahnhof\, Am Bahnhof 1\, Zinnowitz
SEQUENCE:0
SUMMARY:Vortrag "Die Aktion Rose 1953"
UID:e_100127557_iv3
URL:http://pages.destination.one/de/zinnowitz/streaming/detail/Event/e_1001
 27557/vortrag-die-aktion-rose-1953
END:VEVENT
BEGIN:VEVENT
CATEGORIES:Vortrag
DESCRIPTION:\n\nmehr Informationen unter http://pages.destination.one/de/zi
 nnowitz/streaming/detail/Event/e_100127557/vortrag-die-aktion-rose-1953
DTEND;TZID=Europe/Berlin:20260520T203000
DTSTAMP:20260422T085116Z
DTSTART;TZID=Europe/Berlin:20260520T190000
GEO:54.075917;13.903341
LOCATION:Museum im Bahnhof\, Am Bahnhof 1\, Zinnowitz
SEQUENCE:0
SUMMARY:Vortrag "Die Aktion Rose 1953"
UID:e_100127557_iv4
URL:http://pages.destination.one/de/zinnowitz/streaming/detail/Event/e_1001
 27557/vortrag-die-aktion-rose-1953
END:VEVENT
BEGIN:VEVENT
CATEGORIES:Vortrag
DESCRIPTION:\n\nmehr Informationen unter http://pages.destination.one/de/zi
 nnowitz/streaming/detail/Event/e_100127557/vortrag-die-aktion-rose-1953
DTEND;TZID=Europe/Berlin:20260812T203000
DTSTAMP:20260422T085116Z
DTSTART;TZID=Europe/Berlin:20260812T190000
GEO:54.075917;13.903341
LOCATION:Museum im Bahnhof\, Am Bahnhof 1\, Zinnowitz
SEQUENCE:0
SUMMARY:Vortrag "Die Aktion Rose 1953"
UID:e_100127557_iv5
URL:http://pages.destination.one/de/zinnowitz/streaming/detail/Event/e_1001
 27557/vortrag-die-aktion-rose-1953
END:VEVENT
BEGIN:VEVENT
CATEGORIES:Vortrag
DESCRIPTION:\n\nmehr Informationen unter http://pages.destination.one/de/zi
 nnowitz/streaming/detail/Event/e_100127557/vortrag-die-aktion-rose-1953
DTEND;TZID=Europe/Berlin:20260916T203000
DTSTAMP:20260422T085116Z
DTSTART;TZID=Europe/Berlin:20260916T190000
GEO:54.075917;13.903341
LOCATION:Museum im Bahnhof\, Am Bahnhof 1\, Zinnowitz
SEQUENCE:0
SUMMARY:Vortrag "Die Aktion Rose 1953"
UID:e_100127557_iv6
URL:http://pages.destination.one/de/zinnowitz/streaming/detail/Event/e_1001
 27557/vortrag-die-aktion-rose-1953
END:VEVENT
BEGIN:VTIMEZONE
TZID:Europe/Berlin
X-LIC-LOCATION:Europe/Berlin
BEGIN:DAYLIGHT
DTSTART:19700329T020000
RRULE:FREQ=YEARLY;BYDAY=-1SU;BYMONTH=3
TZNAME:CEST
TZOFFSETFROM:+0100
TZOFFSETTO:+0200
END:DAYLIGHT
BEGIN:STANDARD
DTSTART:19701025T030000
RRULE:FREQ=YEARLY;BYDAY=-1SU;BYMONTH=10
TZNAME:CET
TZOFFSETFROM:+0200
TZOFFSETTO:+0100
END:STANDARD
END:VTIMEZONE
END:VCALENDAR
