BEGIN:VCALENDAR
VERSION:2.0
PRODID:-//destination.one//NONSGML destination.meta API//DE
X-WR-CALDESC:A calendar powered by destination.meta
X-WR-CALNAME:zinnowitz Kalender via destination.meta
BEGIN:VEVENT
CATEGORIES:Vortrag
CATEGORIES:UsedomCard
CATEGORIES:Natur
DESCRIPTION:\n\nmehr Informationen unter http://pages.destination.one/de/zi
 nnowitz/streaming/detail/Event/e_100635861/tu-dir-gut-vortrag-bernstein-da
 s-gold-der-ostsee
DTEND;TZID=Europe/Berlin:20230814T203000
DTSTAMP:20260420T102944Z
DTSTART;TZID=Europe/Berlin:20230814T190000
GEO:54.080466;13.914850
LOCATION:Haus des Gastes\, Neue Strandstraße 30\, Zinnowitz
ORGANIZER;CN=Eigenbetrieb Kurverwaltung der Gemeinde Ostseebad Zinnowitz:ma
 ilto:info@kv-zinnowitz.de
SEQUENCE:0
SUMMARY:TU DIR GUT: Vortrag: "Bernstein – das Gold der Ostsee"
UID:e_100635861_iv0
URL:http://pages.destination.one/de/zinnowitz/streaming/detail/Event/e_1006
 35861/tu-dir-gut-vortrag-bernstein-das-gold-der-ostsee
END:VEVENT
BEGIN:VEVENT
CATEGORIES:Vortrag
CATEGORIES:UsedomCard
CATEGORIES:Natur
DESCRIPTION:\n\nmehr Informationen unter http://pages.destination.one/de/zi
 nnowitz/streaming/detail/Event/e_100635861/tu-dir-gut-vortrag-bernstein-da
 s-gold-der-ostsee
DTEND;TZID=Europe/Berlin:20231211T183000
DTSTAMP:20260420T102944Z
DTSTART;TZID=Europe/Berlin:20231211T170000
GEO:54.080466;13.914850
LOCATION:Haus des Gastes\, Neue Strandstraße 30\, Zinnowitz
ORGANIZER;CN=Eigenbetrieb Kurverwaltung der Gemeinde Ostseebad Zinnowitz:ma
 ilto:info@kv-zinnowitz.de
SEQUENCE:0
SUMMARY:TU DIR GUT: Vortrag: "Bernstein – das Gold der Ostsee"
UID:e_100635861_iv1
URL:http://pages.destination.one/de/zinnowitz/streaming/detail/Event/e_1006
 35861/tu-dir-gut-vortrag-bernstein-das-gold-der-ostsee
END:VEVENT
BEGIN:VEVENT
CATEGORIES:Vortrag
CATEGORIES:UsedomCard
CATEGORIES:Natur
DESCRIPTION:\n\nmehr Informationen unter http://pages.destination.one/de/zi
 nnowitz/streaming/detail/Event/e_100635861/tu-dir-gut-vortrag-bernstein-da
 s-gold-der-ostsee
DTEND;TZID=Europe/Berlin:20240527T203000
DTSTAMP:20260420T102944Z
DTSTART;TZID=Europe/Berlin:20240527T190000
GEO:54.080466;13.914850
LOCATION:Haus des Gastes\, Neue Strandstraße 30\, Zinnowitz
ORGANIZER;CN=Eigenbetrieb Kurverwaltung der Gemeinde Ostseebad Zinnowitz:ma
 ilto:info@kv-zinnowitz.de
SEQUENCE:0
SUMMARY:TU DIR GUT: Vortrag: "Bernstein – das Gold der Ostsee"
UID:e_100635861_iv2
URL:http://pages.destination.one/de/zinnowitz/streaming/detail/Event/e_1006
 35861/tu-dir-gut-vortrag-bernstein-das-gold-der-ostsee
END:VEVENT
BEGIN:VEVENT
CATEGORIES:Vortrag
CATEGORIES:UsedomCard
CATEGORIES:Natur
DESCRIPTION:\n\nmehr Informationen unter http://pages.destination.one/de/zi
 nnowitz/streaming/detail/Event/e_100635861/tu-dir-gut-vortrag-bernstein-da
 s-gold-der-ostsee
DTEND;TZID=Europe/Berlin:20240610T203000
DTSTAMP:20260420T102944Z
DTSTART;TZID=Europe/Berlin:20240610T190000
GEO:54.080466;13.914850
LOCATION:Haus des Gastes\, Neue Strandstraße 30\, Zinnowitz
ORGANIZER;CN=Eigenbetrieb Kurverwaltung der Gemeinde Ostseebad Zinnowitz:ma
 ilto:info@kv-zinnowitz.de
SEQUENCE:0
SUMMARY:TU DIR GUT: Vortrag: "Bernstein – das Gold der Ostsee"
UID:e_100635861_iv3
URL:http://pages.destination.one/de/zinnowitz/streaming/detail/Event/e_1006
 35861/tu-dir-gut-vortrag-bernstein-das-gold-der-ostsee
END:VEVENT
BEGIN:VEVENT
CATEGORIES:Vortrag
CATEGORIES:UsedomCard
CATEGORIES:Natur
DESCRIPTION:\n\nmehr Informationen unter http://pages.destination.one/de/zi
 nnowitz/streaming/detail/Event/e_100635861/tu-dir-gut-vortrag-bernstein-da
 s-gold-der-ostsee
DTEND;TZID=Europe/Berlin:20241118T183000
DTSTAMP:20260420T102944Z
DTSTART;TZID=Europe/Berlin:20241118T170000
GEO:54.080466;13.914850
LOCATION:Haus des Gastes\, Neue Strandstraße 30\, Zinnowitz
ORGANIZER;CN=Eigenbetrieb Kurverwaltung der Gemeinde Ostseebad Zinnowitz:ma
 ilto:info@kv-zinnowitz.de
SEQUENCE:0
SUMMARY:TU DIR GUT: Vortrag: "Bernstein – das Gold der Ostsee"
UID:e_100635861_iv4
URL:http://pages.destination.one/de/zinnowitz/streaming/detail/Event/e_1006
 35861/tu-dir-gut-vortrag-bernstein-das-gold-der-ostsee
END:VEVENT
BEGIN:VEVENT
CATEGORIES:Vortrag
CATEGORIES:UsedomCard
CATEGORIES:Natur
DESCRIPTION:\n\nmehr Informationen unter http://pages.destination.one/de/zi
 nnowitz/streaming/detail/Event/e_100635861/tu-dir-gut-vortrag-bernstein-da
 s-gold-der-ostsee
DTEND;TZID=Europe/Berlin:20250227T183000
DTSTAMP:20260420T102944Z
DTSTART;TZID=Europe/Berlin:20250227T170000
GEO:54.080466;13.914850
LOCATION:Haus des Gastes\, Neue Strandstraße 30\, Zinnowitz
ORGANIZER;CN=Eigenbetrieb Kurverwaltung der Gemeinde Ostseebad Zinnowitz:ma
 ilto:info@kv-zinnowitz.de
SEQUENCE:0
SUMMARY:TU DIR GUT: Vortrag: "Bernstein – das Gold der Ostsee"
UID:e_100635861_iv5
URL:http://pages.destination.one/de/zinnowitz/streaming/detail/Event/e_1006
 35861/tu-dir-gut-vortrag-bernstein-das-gold-der-ostsee
END:VEVENT
BEGIN:VEVENT
CATEGORIES:Vortrag
CATEGORIES:UsedomCard
CATEGORIES:Natur
DESCRIPTION:\n\nmehr Informationen unter http://pages.destination.one/de/zi
 nnowitz/streaming/detail/Event/e_100635861/tu-dir-gut-vortrag-bernstein-da
 s-gold-der-ostsee
DTEND;TZID=Europe/Berlin:20250424T183000
DTSTAMP:20260420T102944Z
DTSTART;TZID=Europe/Berlin:20250424T170000
GEO:54.080466;13.914850
LOCATION:Haus des Gastes\, Neue Strandstraße 30\, Zinnowitz
ORGANIZER;CN=Eigenbetrieb Kurverwaltung der Gemeinde Ostseebad Zinnowitz:ma
 ilto:info@kv-zinnowitz.de
SEQUENCE:0
SUMMARY:TU DIR GUT: Vortrag: "Bernstein – das Gold der Ostsee"
UID:e_100635861_iv6
URL:http://pages.destination.one/de/zinnowitz/streaming/detail/Event/e_1006
 35861/tu-dir-gut-vortrag-bernstein-das-gold-der-ostsee
END:VEVENT
BEGIN:VEVENT
CATEGORIES:Vortrag
CATEGORIES:UsedomCard
CATEGORIES:Natur
DESCRIPTION:\n\nmehr Informationen unter http://pages.destination.one/de/zi
 nnowitz/streaming/detail/Event/e_100635861/tu-dir-gut-vortrag-bernstein-da
 s-gold-der-ostsee
DTEND;TZID=Europe/Berlin:20250508T183000
DTSTAMP:20260420T102944Z
DTSTART;TZID=Europe/Berlin:20250508T170000
GEO:54.080466;13.914850
LOCATION:Haus des Gastes\, Neue Strandstraße 30\, Zinnowitz
ORGANIZER;CN=Eigenbetrieb Kurverwaltung der Gemeinde Ostseebad Zinnowitz:ma
 ilto:info@kv-zinnowitz.de
SEQUENCE:0
SUMMARY:TU DIR GUT: Vortrag: "Bernstein – das Gold der Ostsee"
UID:e_100635861_iv7
URL:http://pages.destination.one/de/zinnowitz/streaming/detail/Event/e_1006
 35861/tu-dir-gut-vortrag-bernstein-das-gold-der-ostsee
END:VEVENT
BEGIN:VEVENT
CATEGORIES:Vortrag
CATEGORIES:UsedomCard
CATEGORIES:Natur
DESCRIPTION:\n\nmehr Informationen unter http://pages.destination.one/de/zi
 nnowitz/streaming/detail/Event/e_100635861/tu-dir-gut-vortrag-bernstein-da
 s-gold-der-ostsee
DTEND;TZID=Europe/Berlin:20251009T183000
DTSTAMP:20260420T102944Z
DTSTART;TZID=Europe/Berlin:20251009T170000
GEO:54.080466;13.914850
LOCATION:Haus des Gastes\, Neue Strandstraße 30\, Zinnowitz
ORGANIZER;CN=Eigenbetrieb Kurverwaltung der Gemeinde Ostseebad Zinnowitz:ma
 ilto:info@kv-zinnowitz.de
SEQUENCE:0
SUMMARY:TU DIR GUT: Vortrag: "Bernstein – das Gold der Ostsee"
UID:e_100635861_iv8
URL:http://pages.destination.one/de/zinnowitz/streaming/detail/Event/e_1006
 35861/tu-dir-gut-vortrag-bernstein-das-gold-der-ostsee
END:VEVENT
BEGIN:VEVENT
CATEGORIES:Vortrag
CATEGORIES:UsedomCard
CATEGORIES:Natur
DESCRIPTION:\n\nmehr Informationen unter http://pages.destination.one/de/zi
 nnowitz/streaming/detail/Event/e_100635861/tu-dir-gut-vortrag-bernstein-da
 s-gold-der-ostsee
DTEND;TZID=Europe/Berlin:20251030T183000
DTSTAMP:20260420T102944Z
DTSTART;TZID=Europe/Berlin:20251030T170000
GEO:54.080466;13.914850
LOCATION:Haus des Gastes\, Neue Strandstraße 30\, Zinnowitz
ORGANIZER;CN=Eigenbetrieb Kurverwaltung der Gemeinde Ostseebad Zinnowitz:ma
 ilto:info@kv-zinnowitz.de
SEQUENCE:0
SUMMARY:TU DIR GUT: Vortrag: "Bernstein – das Gold der Ostsee"
UID:e_100635861_iv9
URL:http://pages.destination.one/de/zinnowitz/streaming/detail/Event/e_1006
 35861/tu-dir-gut-vortrag-bernstein-das-gold-der-ostsee
END:VEVENT
BEGIN:VEVENT
CATEGORIES:Vortrag
CATEGORIES:UsedomCard
CATEGORIES:Natur
DESCRIPTION:\n\nmehr Informationen unter http://pages.destination.one/de/zi
 nnowitz/streaming/detail/Event/e_100635861/tu-dir-gut-vortrag-bernstein-da
 s-gold-der-ostsee
DTEND;TZID=Europe/Berlin:20251106T183000
DTSTAMP:20260420T102944Z
DTSTART;TZID=Europe/Berlin:20251106T170000
GEO:54.080466;13.914850
LOCATION:Haus des Gastes\, Neue Strandstraße 30\, Zinnowitz
ORGANIZER;CN=Eigenbetrieb Kurverwaltung der Gemeinde Ostseebad Zinnowitz:ma
 ilto:info@kv-zinnowitz.de
SEQUENCE:0
SUMMARY:TU DIR GUT: Vortrag: "Bernstein – das Gold der Ostsee"
UID:e_100635861_iv10
URL:http://pages.destination.one/de/zinnowitz/streaming/detail/Event/e_1006
 35861/tu-dir-gut-vortrag-bernstein-das-gold-der-ostsee
END:VEVENT
BEGIN:VEVENT
CATEGORIES:Vortrag
CATEGORIES:UsedomCard
CATEGORIES:Natur
DESCRIPTION:\n\nmehr Informationen unter http://pages.destination.one/de/zi
 nnowitz/streaming/detail/Event/e_100635861/tu-dir-gut-vortrag-bernstein-da
 s-gold-der-ostsee
DTEND;TZID=Europe/Berlin:20260122T183000
DTSTAMP:20260420T102944Z
DTSTART;TZID=Europe/Berlin:20260122T170000
GEO:54.080466;13.914850
LOCATION:Haus des Gastes\, Neue Strandstraße 30\, Zinnowitz
ORGANIZER;CN=Eigenbetrieb Kurverwaltung der Gemeinde Ostseebad Zinnowitz:ma
 ilto:info@kv-zinnowitz.de
SEQUENCE:0
SUMMARY:TU DIR GUT: Vortrag: "Bernstein – das Gold der Ostsee"
UID:e_100635861_iv11
URL:http://pages.destination.one/de/zinnowitz/streaming/detail/Event/e_1006
 35861/tu-dir-gut-vortrag-bernstein-das-gold-der-ostsee
END:VEVENT
BEGIN:VEVENT
CATEGORIES:Vortrag
CATEGORIES:UsedomCard
CATEGORIES:Natur
DESCRIPTION:\n\nmehr Informationen unter http://pages.destination.one/de/zi
 nnowitz/streaming/detail/Event/e_100635861/tu-dir-gut-vortrag-bernstein-da
 s-gold-der-ostsee
DTEND;TZID=Europe/Berlin:20260205T183000
DTSTAMP:20260420T102944Z
DTSTART;TZID=Europe/Berlin:20260205T170000
GEO:54.080466;13.914850
LOCATION:Haus des Gastes\, Neue Strandstraße 30\, Zinnowitz
ORGANIZER;CN=Eigenbetrieb Kurverwaltung der Gemeinde Ostseebad Zinnowitz:ma
 ilto:info@kv-zinnowitz.de
SEQUENCE:0
SUMMARY:TU DIR GUT: Vortrag: "Bernstein – das Gold der Ostsee"
UID:e_100635861_iv12
URL:http://pages.destination.one/de/zinnowitz/streaming/detail/Event/e_1006
 35861/tu-dir-gut-vortrag-bernstein-das-gold-der-ostsee
END:VEVENT
BEGIN:VEVENT
CATEGORIES:Vortrag
CATEGORIES:UsedomCard
CATEGORIES:Natur
DESCRIPTION:\n\nmehr Informationen unter http://pages.destination.one/de/zi
 nnowitz/streaming/detail/Event/e_100635861/tu-dir-gut-vortrag-bernstein-da
 s-gold-der-ostsee
DTEND;TZID=Europe/Berlin:20260416T183000
DTSTAMP:20260420T102944Z
DTSTART;TZID=Europe/Berlin:20260416T170000
GEO:54.080466;13.914850
LOCATION:Haus des Gastes\, Neue Strandstraße 30\, Zinnowitz
ORGANIZER;CN=Eigenbetrieb Kurverwaltung der Gemeinde Ostseebad Zinnowitz:ma
 ilto:info@kv-zinnowitz.de
SEQUENCE:0
SUMMARY:TU DIR GUT: Vortrag: "Bernstein – das Gold der Ostsee"
UID:e_100635861_iv13
URL:http://pages.destination.one/de/zinnowitz/streaming/detail/Event/e_1006
 35861/tu-dir-gut-vortrag-bernstein-das-gold-der-ostsee
END:VEVENT
BEGIN:VTIMEZONE
TZID:Europe/Berlin
X-LIC-LOCATION:Europe/Berlin
BEGIN:DAYLIGHT
DTSTART:19700329T020000
RRULE:FREQ=YEARLY;BYDAY=-1SU;BYMONTH=3
TZNAME:CEST
TZOFFSETFROM:+0100
TZOFFSETTO:+0200
END:DAYLIGHT
BEGIN:STANDARD
DTSTART:19701025T030000
RRULE:FREQ=YEARLY;BYDAY=-1SU;BYMONTH=10
TZNAME:CET
TZOFFSETFROM:+0200
TZOFFSETTO:+0100
END:STANDARD
END:VTIMEZONE
END:VCALENDAR
