BEGIN:VCALENDAR
VERSION:2.0
PRODID:-//destination.one//NONSGML destination.meta API//DE
X-WR-CALDESC:A calendar powered by destination.meta
X-WR-CALNAME:zinnowitz Kalender via destination.meta
BEGIN:VEVENT
CATEGORIES:Musik
DESCRIPTION:\n\nmehr Informationen unter http://pages.destination.one/de/zi
 nnowitz/streaming/detail/Event/e_100783543/galeriekonzert-mit-charly-und-r
 obert
DTEND;TZID=Europe/Berlin:20240207T220000
DTSTAMP:20260420T104746Z
DTSTART;TZID=Europe/Berlin:20240207T200000
GEO:54.077847;13.915021
LOCATION:"Usedomer Kunsthaus Villa Meyer"\, Wilhelm-Potenberg-Str. 1\, Zinn
 owitz
RRULE:FREQ=WEEKLY;UNTIL=20250819T200000;BYDAY=WE
SEQUENCE:0
SUMMARY:Galeriekonzert mit Charly und Robert
UID:e_100783543_iv0
URL:http://pages.destination.one/de/zinnowitz/streaming/detail/Event/e_1007
 83543/galeriekonzert-mit-charly-und-robert
END:VEVENT
BEGIN:VEVENT
CATEGORIES:Musik
DESCRIPTION:\n\nmehr Informationen unter http://pages.destination.one/de/zi
 nnowitz/streaming/detail/Event/e_100783543/galeriekonzert-mit-charly-und-r
 obert
DTEND;TZID=Europe/Berlin:20250903T220000
DTSTAMP:20260420T104746Z
DTSTART;TZID=Europe/Berlin:20250903T200000
GEO:54.077847;13.915021
LOCATION:"Usedomer Kunsthaus Villa Meyer"\, Wilhelm-Potenberg-Str. 1\, Zinn
 owitz
RRULE:FREQ=WEEKLY;UNTIL=20251021T200000;BYDAY=WE
SEQUENCE:0
SUMMARY:Galeriekonzert mit Charly und Robert
UID:e_100783543_iv1
URL:http://pages.destination.one/de/zinnowitz/streaming/detail/Event/e_1007
 83543/galeriekonzert-mit-charly-und-robert
END:VEVENT
BEGIN:VEVENT
CATEGORIES:Musik
DESCRIPTION:\n\nmehr Informationen unter http://pages.destination.one/de/zi
 nnowitz/streaming/detail/Event/e_100783543/galeriekonzert-mit-charly-und-r
 obert
DTEND;TZID=Europe/Berlin:20251023T220000
DTSTAMP:20260420T104746Z
DTSTART;TZID=Europe/Berlin:20251023T200000
GEO:54.077847;13.915021
LOCATION:"Usedomer Kunsthaus Villa Meyer"\, Wilhelm-Potenberg-Str. 1\, Zinn
 owitz
SEQUENCE:0
SUMMARY:Galeriekonzert mit Charly und Robert
UID:e_100783543_iv2
URL:http://pages.destination.one/de/zinnowitz/streaming/detail/Event/e_1007
 83543/galeriekonzert-mit-charly-und-robert
END:VEVENT
BEGIN:VEVENT
CATEGORIES:Musik
DESCRIPTION:\n\nmehr Informationen unter http://pages.destination.one/de/zi
 nnowitz/streaming/detail/Event/e_100783543/galeriekonzert-mit-charly-und-r
 obert
DTEND;TZID=Europe/Berlin:20251029T220000
DTSTAMP:20260420T104746Z
DTSTART;TZID=Europe/Berlin:20251029T200000
GEO:54.077847;13.915021
LOCATION:"Usedomer Kunsthaus Villa Meyer"\, Wilhelm-Potenberg-Str. 1\, Zinn
 owitz
RRULE:FREQ=WEEKLY;UNTIL=20251223T210000;BYDAY=WE
SEQUENCE:0
SUMMARY:Galeriekonzert mit Charly und Robert
UID:e_100783543_iv3
URL:http://pages.destination.one/de/zinnowitz/streaming/detail/Event/e_1007
 83543/galeriekonzert-mit-charly-und-robert
END:VEVENT
BEGIN:VEVENT
CATEGORIES:Musik
DESCRIPTION:\n\nmehr Informationen unter http://pages.destination.one/de/zi
 nnowitz/streaming/detail/Event/e_100783543/galeriekonzert-mit-charly-und-r
 obert
DTEND;TZID=Europe/Berlin:20251230T220000
DTSTAMP:20260420T104746Z
DTSTART;TZID=Europe/Berlin:20251230T200000
GEO:54.077847;13.915021
LOCATION:"Usedomer Kunsthaus Villa Meyer"\, Wilhelm-Potenberg-Str. 1\, Zinn
 owitz
SEQUENCE:0
SUMMARY:Galeriekonzert mit Charly und Robert
UID:e_100783543_iv4
URL:http://pages.destination.one/de/zinnowitz/streaming/detail/Event/e_1007
 83543/galeriekonzert-mit-charly-und-robert
END:VEVENT
BEGIN:VEVENT
CATEGORIES:Musik
DESCRIPTION:\n\nmehr Informationen unter http://pages.destination.one/de/zi
 nnowitz/streaming/detail/Event/e_100783543/galeriekonzert-mit-charly-und-r
 obert
DTEND;TZID=Europe/Berlin:20260107T220000
DTSTAMP:20260420T104746Z
DTSTART;TZID=Europe/Berlin:20260107T200000
GEO:54.077847;13.915021
LOCATION:"Usedomer Kunsthaus Villa Meyer"\, Wilhelm-Potenberg-Str. 1\, Zinn
 owitz
RRULE:FREQ=WEEKLY;UNTIL=20260217T210000;BYDAY=WE
SEQUENCE:0
SUMMARY:Galeriekonzert mit Charly und Robert
UID:e_100783543_iv5
URL:http://pages.destination.one/de/zinnowitz/streaming/detail/Event/e_1007
 83543/galeriekonzert-mit-charly-und-robert
END:VEVENT
BEGIN:VEVENT
CATEGORIES:Musik
DESCRIPTION:\n\nmehr Informationen unter http://pages.destination.one/de/zi
 nnowitz/streaming/detail/Event/e_100783543/galeriekonzert-mit-charly-und-r
 obert
DTEND;TZID=Europe/Berlin:20260219T220000
DTSTAMP:20260420T104746Z
DTSTART;TZID=Europe/Berlin:20260219T200000
GEO:54.077847;13.915021
LOCATION:"Usedomer Kunsthaus Villa Meyer"\, Wilhelm-Potenberg-Str. 1\, Zinn
 owitz
SEQUENCE:0
SUMMARY:Galeriekonzert mit Charly und Robert
UID:e_100783543_iv6
URL:http://pages.destination.one/de/zinnowitz/streaming/detail/Event/e_1007
 83543/galeriekonzert-mit-charly-und-robert
END:VEVENT
BEGIN:VEVENT
CATEGORIES:Musik
DESCRIPTION:\n\nmehr Informationen unter http://pages.destination.one/de/zi
 nnowitz/streaming/detail/Event/e_100783543/galeriekonzert-mit-charly-und-r
 obert
DTEND;TZID=Europe/Berlin:20260225T220000
DTSTAMP:20260420T104746Z
DTSTART;TZID=Europe/Berlin:20260225T200000
GEO:54.077847;13.915021
LOCATION:"Usedomer Kunsthaus Villa Meyer"\, Wilhelm-Potenberg-Str. 1\, Zinn
 owitz
RRULE:FREQ=WEEKLY;BYDAY=WE
SEQUENCE:0
SUMMARY:Galeriekonzert mit Charly und Robert
UID:e_100783543_iv7
URL:http://pages.destination.one/de/zinnowitz/streaming/detail/Event/e_1007
 83543/galeriekonzert-mit-charly-und-robert
END:VEVENT
BEGIN:VTIMEZONE
TZID:Europe/Berlin
X-LIC-LOCATION:Europe/Berlin
BEGIN:DAYLIGHT
DTSTART:19700329T020000
RRULE:FREQ=YEARLY;BYDAY=-1SU;BYMONTH=3
TZNAME:CEST
TZOFFSETFROM:+0100
TZOFFSETTO:+0200
END:DAYLIGHT
BEGIN:STANDARD
DTSTART:19701025T030000
RRULE:FREQ=YEARLY;BYDAY=-1SU;BYMONTH=10
TZNAME:CET
TZOFFSETFROM:+0200
TZOFFSETTO:+0100
END:STANDARD
END:VTIMEZONE
END:VCALENDAR
