BEGIN:VCALENDAR
VERSION:2.0
PRODID:-//destination.one//NONSGML destination.meta API//DE
X-WR-CALDESC:A calendar powered by destination.meta
X-WR-CALNAME:zinnowitz Kalender via destination.meta
BEGIN:VEVENT
CATEGORIES:Highlights
CATEGORIES:Musik
CATEGORIES:Open Air
CATEGORIES:Tanzen
CATEGORIES:UsedomCard
CATEGORIES:Kulinarisches
CATEGORIES:Märkte
DESCRIPTION:\n\nmehr Informationen unter http://pages.destination.one/de/zi
 nnowitz/streaming/detail/Event/e_100826094/zinnowitzer-weinfest
DTEND;TZID=Europe/Berlin:20240814T220000
DTSTAMP:20260422T084757Z
DTSTART;TZID=Europe/Berlin:20240814T140000
GEO:54.081601;13.913728
LOCATION:Infopoint - Strandpromenade\, \, Zinnowitz
ORGANIZER;CN=Eigenbetrieb Kurverwaltung der Gemeinde Ostseebad Zinnowitz:ma
 ilto:info@kv-zinnowitz.de
RRULE:FREQ=DAILY;UNTIL=20240818T120000
SEQUENCE:0
SUMMARY:Zinnowitzer Weinfest 
UID:e_100826094_iv0
URL:http://pages.destination.one/de/zinnowitz/streaming/detail/Event/e_1008
 26094/zinnowitzer-weinfest
END:VEVENT
BEGIN:VEVENT
CATEGORIES:Highlights
CATEGORIES:Musik
CATEGORIES:Open Air
CATEGORIES:Tanzen
CATEGORIES:UsedomCard
CATEGORIES:Kulinarisches
CATEGORIES:Märkte
DESCRIPTION:\n\nmehr Informationen unter http://pages.destination.one/de/zi
 nnowitz/streaming/detail/Event/e_100826094/zinnowitzer-weinfest
DTEND;TZID=Europe/Berlin:20250814T220000
DTSTAMP:20260422T084757Z
DTSTART;TZID=Europe/Berlin:20250814T140000
GEO:54.081601;13.913728
LOCATION:Infopoint - Strandpromenade\, \, Zinnowitz
ORGANIZER;CN=Eigenbetrieb Kurverwaltung der Gemeinde Ostseebad Zinnowitz:ma
 ilto:info@kv-zinnowitz.de
SEQUENCE:0
SUMMARY:Zinnowitzer Weinfest 
UID:e_100826094_iv1
URL:http://pages.destination.one/de/zinnowitz/streaming/detail/Event/e_1008
 26094/zinnowitzer-weinfest
END:VEVENT
BEGIN:VEVENT
CATEGORIES:Highlights
CATEGORIES:Musik
CATEGORIES:Open Air
CATEGORIES:Tanzen
CATEGORIES:UsedomCard
CATEGORIES:Kulinarisches
CATEGORIES:Märkte
DESCRIPTION:\n\nmehr Informationen unter http://pages.destination.one/de/zi
 nnowitz/streaming/detail/Event/e_100826094/zinnowitzer-weinfest
DTEND;TZID=Europe/Berlin:20250815T220000
DTSTAMP:20260422T084757Z
DTSTART;TZID=Europe/Berlin:20250815T140000
GEO:54.081601;13.913728
LOCATION:Infopoint - Strandpromenade\, \, Zinnowitz
ORGANIZER;CN=Eigenbetrieb Kurverwaltung der Gemeinde Ostseebad Zinnowitz:ma
 ilto:info@kv-zinnowitz.de
SEQUENCE:0
SUMMARY:Zinnowitzer Weinfest 
UID:e_100826094_iv2
URL:http://pages.destination.one/de/zinnowitz/streaming/detail/Event/e_1008
 26094/zinnowitzer-weinfest
END:VEVENT
BEGIN:VEVENT
CATEGORIES:Highlights
CATEGORIES:Musik
CATEGORIES:Open Air
CATEGORIES:Tanzen
CATEGORIES:UsedomCard
CATEGORIES:Kulinarisches
CATEGORIES:Märkte
DESCRIPTION:\n\nmehr Informationen unter http://pages.destination.one/de/zi
 nnowitz/streaming/detail/Event/e_100826094/zinnowitzer-weinfest
DTEND;TZID=Europe/Berlin:20250816T220000
DTSTAMP:20260422T084757Z
DTSTART;TZID=Europe/Berlin:20250816T140000
GEO:54.081601;13.913728
LOCATION:Infopoint - Strandpromenade\, \, Zinnowitz
ORGANIZER;CN=Eigenbetrieb Kurverwaltung der Gemeinde Ostseebad Zinnowitz:ma
 ilto:info@kv-zinnowitz.de
SEQUENCE:0
SUMMARY:Zinnowitzer Weinfest 
UID:e_100826094_iv3
URL:http://pages.destination.one/de/zinnowitz/streaming/detail/Event/e_1008
 26094/zinnowitzer-weinfest
END:VEVENT
BEGIN:VEVENT
CATEGORIES:Highlights
CATEGORIES:Musik
CATEGORIES:Open Air
CATEGORIES:Tanzen
CATEGORIES:UsedomCard
CATEGORIES:Kulinarisches
CATEGORIES:Märkte
DESCRIPTION:\n\nmehr Informationen unter http://pages.destination.one/de/zi
 nnowitz/streaming/detail/Event/e_100826094/zinnowitzer-weinfest
DTEND;TZID=Europe/Berlin:20250817T220000
DTSTAMP:20260422T084757Z
DTSTART;TZID=Europe/Berlin:20250817T140000
GEO:54.081601;13.913728
LOCATION:Infopoint - Strandpromenade\, \, Zinnowitz
ORGANIZER;CN=Eigenbetrieb Kurverwaltung der Gemeinde Ostseebad Zinnowitz:ma
 ilto:info@kv-zinnowitz.de
SEQUENCE:0
SUMMARY:Zinnowitzer Weinfest 
UID:e_100826094_iv4
URL:http://pages.destination.one/de/zinnowitz/streaming/detail/Event/e_1008
 26094/zinnowitzer-weinfest
END:VEVENT
BEGIN:VEVENT
CATEGORIES:Highlights
CATEGORIES:Musik
CATEGORIES:Open Air
CATEGORIES:Tanzen
CATEGORIES:UsedomCard
CATEGORIES:Kulinarisches
CATEGORIES:Märkte
DESCRIPTION:\n\nmehr Informationen unter http://pages.destination.one/de/zi
 nnowitz/streaming/detail/Event/e_100826094/zinnowitzer-weinfest
DTEND;TZID=Europe/Berlin:20260811T220000
DTSTAMP:20260422T084757Z
DTSTART;TZID=Europe/Berlin:20260811T160000
GEO:54.081601;13.913728
LOCATION:Infopoint - Strandpromenade\, \, Zinnowitz
ORGANIZER;CN=Eigenbetrieb Kurverwaltung der Gemeinde Ostseebad Zinnowitz:ma
 ilto:info@kv-zinnowitz.de
RRULE:FREQ=DAILY;UNTIL=20260815T140000
SEQUENCE:0
SUMMARY:Zinnowitzer Weinfest 
UID:e_100826094_iv5
URL:http://pages.destination.one/de/zinnowitz/streaming/detail/Event/e_1008
 26094/zinnowitzer-weinfest
END:VEVENT
BEGIN:VTIMEZONE
TZID:Europe/Berlin
X-LIC-LOCATION:Europe/Berlin
BEGIN:DAYLIGHT
DTSTART:19700329T020000
RRULE:FREQ=YEARLY;BYDAY=-1SU;BYMONTH=3
TZNAME:CEST
TZOFFSETFROM:+0100
TZOFFSETTO:+0200
END:DAYLIGHT
BEGIN:STANDARD
DTSTART:19701025T030000
RRULE:FREQ=YEARLY;BYDAY=-1SU;BYMONTH=10
TZNAME:CET
TZOFFSETFROM:+0200
TZOFFSETTO:+0100
END:STANDARD
END:VTIMEZONE
END:VCALENDAR
