BEGIN:VCALENDAR
VERSION:2.0
PRODID:-//destination.one//NONSGML destination.meta API//DE
X-WR-CALDESC:A calendar powered by destination.meta
X-WR-CALNAME:zinnowitz Kalender via destination.meta
BEGIN:VEVENT
CATEGORIES:Highlights
CATEGORIES:Kinder
CATEGORIES:Kulinarisches
CATEGORIES:Märkte
CATEGORIES:Musik
CATEGORIES:Open Air
CATEGORIES:Tanzen
CATEGORIES:UsedomCard
DESCRIPTION:\n\nmehr Informationen unter http://pages.destination.one/de/zi
 nnowitz/streaming/detail/Event/e_100826139/33-zinnowitzer-seebr-ckenfest
DTEND;TZID=Europe/Berlin:20240913T210000
DTSTAMP:20260420T104740Z
DTSTART;TZID=Europe/Berlin:20240913T110000
GEO:54.081255;13.915176
LOCATION:Konzertmuschel\, Seebrückenvorplatz\, Zinnowitz
ORGANIZER;CN=Eigenbetrieb Kurverwaltung der Gemeinde Ostseebad Zinnowitz:ma
 ilto:info@kv-zinnowitz.de
RRULE:FREQ=DAILY;UNTIL=20240915T090000
SEQUENCE:0
SUMMARY:33. Zinnowitzer Seebrückenfest
UID:e_100826139_iv0
URL:http://pages.destination.one/de/zinnowitz/streaming/detail/Event/e_1008
 26139/33-zinnowitzer-seebr-ckenfest
END:VEVENT
BEGIN:VEVENT
CATEGORIES:Highlights
CATEGORIES:Kinder
CATEGORIES:Kulinarisches
CATEGORIES:Märkte
CATEGORIES:Musik
CATEGORIES:Open Air
CATEGORIES:Tanzen
CATEGORIES:UsedomCard
DESCRIPTION:\n\nmehr Informationen unter http://pages.destination.one/de/zi
 nnowitz/streaming/detail/Event/e_100826139/33-zinnowitzer-seebr-ckenfest
DTEND;TZID=Europe/Berlin:20250905T210000
DTSTAMP:20260420T104740Z
DTSTART;TZID=Europe/Berlin:20250905T110000
GEO:54.081255;13.915176
LOCATION:Konzertmuschel\, Seebrückenvorplatz\, Zinnowitz
ORGANIZER;CN=Eigenbetrieb Kurverwaltung der Gemeinde Ostseebad Zinnowitz:ma
 ilto:info@kv-zinnowitz.de
SEQUENCE:0
SUMMARY:33. Zinnowitzer Seebrückenfest
UID:e_100826139_iv1
URL:http://pages.destination.one/de/zinnowitz/streaming/detail/Event/e_1008
 26139/33-zinnowitzer-seebr-ckenfest
END:VEVENT
BEGIN:VEVENT
CATEGORIES:Highlights
CATEGORIES:Kinder
CATEGORIES:Kulinarisches
CATEGORIES:Märkte
CATEGORIES:Musik
CATEGORIES:Open Air
CATEGORIES:Tanzen
CATEGORIES:UsedomCard
DESCRIPTION:\n\nmehr Informationen unter http://pages.destination.one/de/zi
 nnowitz/streaming/detail/Event/e_100826139/33-zinnowitzer-seebr-ckenfest
DTEND;TZID=Europe/Berlin:20250906T210000
DTSTAMP:20260420T104740Z
DTSTART;TZID=Europe/Berlin:20250906T110000
GEO:54.081255;13.915176
LOCATION:Konzertmuschel\, Seebrückenvorplatz\, Zinnowitz
ORGANIZER;CN=Eigenbetrieb Kurverwaltung der Gemeinde Ostseebad Zinnowitz:ma
 ilto:info@kv-zinnowitz.de
SEQUENCE:0
SUMMARY:33. Zinnowitzer Seebrückenfest
UID:e_100826139_iv2
URL:http://pages.destination.one/de/zinnowitz/streaming/detail/Event/e_1008
 26139/33-zinnowitzer-seebr-ckenfest
END:VEVENT
BEGIN:VEVENT
CATEGORIES:Highlights
CATEGORIES:Kinder
CATEGORIES:Kulinarisches
CATEGORIES:Märkte
CATEGORIES:Musik
CATEGORIES:Open Air
CATEGORIES:Tanzen
CATEGORIES:UsedomCard
DESCRIPTION:\n\nmehr Informationen unter http://pages.destination.one/de/zi
 nnowitz/streaming/detail/Event/e_100826139/33-zinnowitzer-seebr-ckenfest
DTEND;TZID=Europe/Berlin:20250907T210000
DTSTAMP:20260420T104740Z
DTSTART;TZID=Europe/Berlin:20250907T110000
GEO:54.081255;13.915176
LOCATION:Konzertmuschel\, Seebrückenvorplatz\, Zinnowitz
ORGANIZER;CN=Eigenbetrieb Kurverwaltung der Gemeinde Ostseebad Zinnowitz:ma
 ilto:info@kv-zinnowitz.de
SEQUENCE:0
SUMMARY:33. Zinnowitzer Seebrückenfest
UID:e_100826139_iv3
URL:http://pages.destination.one/de/zinnowitz/streaming/detail/Event/e_1008
 26139/33-zinnowitzer-seebr-ckenfest
END:VEVENT
BEGIN:VEVENT
CATEGORIES:Highlights
CATEGORIES:Kinder
CATEGORIES:Kulinarisches
CATEGORIES:Märkte
CATEGORIES:Musik
CATEGORIES:Open Air
CATEGORIES:Tanzen
CATEGORIES:UsedomCard
DESCRIPTION:\n\nmehr Informationen unter http://pages.destination.one/de/zi
 nnowitz/streaming/detail/Event/e_100826139/33-zinnowitzer-seebr-ckenfest
DTEND;TZID=Europe/Berlin:20260911T220000
DTSTAMP:20260420T104740Z
DTSTART;TZID=Europe/Berlin:20260911T110000
GEO:54.081255;13.915176
LOCATION:Konzertmuschel\, Seebrückenvorplatz\, Zinnowitz
ORGANIZER;CN=Eigenbetrieb Kurverwaltung der Gemeinde Ostseebad Zinnowitz:ma
 ilto:info@kv-zinnowitz.de
SEQUENCE:0
SUMMARY:33. Zinnowitzer Seebrückenfest
UID:e_100826139_iv4
URL:http://pages.destination.one/de/zinnowitz/streaming/detail/Event/e_1008
 26139/33-zinnowitzer-seebr-ckenfest
END:VEVENT
BEGIN:VEVENT
CATEGORIES:Highlights
CATEGORIES:Kinder
CATEGORIES:Kulinarisches
CATEGORIES:Märkte
CATEGORIES:Musik
CATEGORIES:Open Air
CATEGORIES:Tanzen
CATEGORIES:UsedomCard
DESCRIPTION:\n\nmehr Informationen unter http://pages.destination.one/de/zi
 nnowitz/streaming/detail/Event/e_100826139/33-zinnowitzer-seebr-ckenfest
DTEND;TZID=Europe/Berlin:20260912T220000
DTSTAMP:20260420T104740Z
DTSTART;TZID=Europe/Berlin:20260912T110000
GEO:54.081255;13.915176
LOCATION:Konzertmuschel\, Seebrückenvorplatz\, Zinnowitz
ORGANIZER;CN=Eigenbetrieb Kurverwaltung der Gemeinde Ostseebad Zinnowitz:ma
 ilto:info@kv-zinnowitz.de
SEQUENCE:0
SUMMARY:33. Zinnowitzer Seebrückenfest
UID:e_100826139_iv5
URL:http://pages.destination.one/de/zinnowitz/streaming/detail/Event/e_1008
 26139/33-zinnowitzer-seebr-ckenfest
END:VEVENT
BEGIN:VEVENT
CATEGORIES:Highlights
CATEGORIES:Kinder
CATEGORIES:Kulinarisches
CATEGORIES:Märkte
CATEGORIES:Musik
CATEGORIES:Open Air
CATEGORIES:Tanzen
CATEGORIES:UsedomCard
DESCRIPTION:\n\nmehr Informationen unter http://pages.destination.one/de/zi
 nnowitz/streaming/detail/Event/e_100826139/33-zinnowitzer-seebr-ckenfest
DTEND;TZID=Europe/Berlin:20260913T200000
DTSTAMP:20260420T104740Z
DTSTART;TZID=Europe/Berlin:20260913T110000
GEO:54.081255;13.915176
LOCATION:Konzertmuschel\, Seebrückenvorplatz\, Zinnowitz
ORGANIZER;CN=Eigenbetrieb Kurverwaltung der Gemeinde Ostseebad Zinnowitz:ma
 ilto:info@kv-zinnowitz.de
SEQUENCE:0
SUMMARY:33. Zinnowitzer Seebrückenfest
UID:e_100826139_iv6
URL:http://pages.destination.one/de/zinnowitz/streaming/detail/Event/e_1008
 26139/33-zinnowitzer-seebr-ckenfest
END:VEVENT
BEGIN:VTIMEZONE
TZID:Europe/Berlin
X-LIC-LOCATION:Europe/Berlin
BEGIN:DAYLIGHT
DTSTART:19700329T020000
RRULE:FREQ=YEARLY;BYDAY=-1SU;BYMONTH=3
TZNAME:CEST
TZOFFSETFROM:+0100
TZOFFSETTO:+0200
END:DAYLIGHT
BEGIN:STANDARD
DTSTART:19701025T030000
RRULE:FREQ=YEARLY;BYDAY=-1SU;BYMONTH=10
TZNAME:CET
TZOFFSETFROM:+0200
TZOFFSETTO:+0100
END:STANDARD
END:VTIMEZONE
END:VCALENDAR
