BEGIN:VCALENDAR
VERSION:2.0
PRODID:-//destination.one//NONSGML destination.meta API//DE
X-WR-CALDESC:A calendar powered by destination.meta
X-WR-CALNAME:zinnowitz Kalender via destination.meta
BEGIN:VEVENT
CATEGORIES:Märkte
CATEGORIES:UsedomCard
CATEGORIES:Open Air
DESCRIPTION:\n\nmehr Informationen unter http://pages.destination.one/de/zi
 nnowitz/streaming/detail/Event/e_100858691/zinnowitzer-wochenmarkt
DTEND;TZID=Europe/Berlin:20240612T180000
DTSTAMP:20260423T083225Z
DTSTART;TZID=Europe/Berlin:20240612T140000
GEO:54.078973;13.911249
LOCATION:Kulturhauspark\, Dr.-Wachsmann-Straße\, Zinnowitz
ORGANIZER;CN=Eigenbetrieb Kurverwaltung der Gemeinde Ostseebad Zinnowitz:ma
 ilto:info@kv-zinnowitz.de
RRULE:FREQ=WEEKLY;UNTIL=20241231T130000;BYDAY=WE
SEQUENCE:0
SUMMARY:Zinnowitzer Wochenmarkt
UID:e_100858691_iv0
URL:http://pages.destination.one/de/zinnowitz/streaming/detail/Event/e_1008
 58691/zinnowitzer-wochenmarkt
END:VEVENT
BEGIN:VEVENT
CATEGORIES:Märkte
CATEGORIES:UsedomCard
CATEGORIES:Open Air
DESCRIPTION:\n\nmehr Informationen unter http://pages.destination.one/de/zi
 nnowitz/streaming/detail/Event/e_100858691/zinnowitzer-wochenmarkt
DTEND;TZID=Europe/Berlin:20250409T170000
DTSTAMP:20260423T083225Z
DTSTART;TZID=Europe/Berlin:20250409T140000
GEO:54.078973;13.911249
LOCATION:Kulturhauspark\, Dr.-Wachsmann-Straße\, Zinnowitz
ORGANIZER;CN=Eigenbetrieb Kurverwaltung der Gemeinde Ostseebad Zinnowitz:ma
 ilto:info@kv-zinnowitz.de
RRULE:FREQ=WEEKLY;UNTIL=20251101T160000;BYDAY=WE
SEQUENCE:0
SUMMARY:Zinnowitzer Wochenmarkt
UID:e_100858691_iv1
URL:http://pages.destination.one/de/zinnowitz/streaming/detail/Event/e_1008
 58691/zinnowitzer-wochenmarkt
END:VEVENT
BEGIN:VEVENT
CATEGORIES:Märkte
CATEGORIES:UsedomCard
CATEGORIES:Open Air
DESCRIPTION:\n\nmehr Informationen unter http://pages.destination.one/de/zi
 nnowitz/streaming/detail/Event/e_100858691/zinnowitzer-wochenmarkt
DTEND;TZID=Europe/Berlin:20260415T180000
DTSTAMP:20260423T083225Z
DTSTART;TZID=Europe/Berlin:20260415T140000
GEO:54.078973;13.911249
LOCATION:Kulturhauspark\, Dr.-Wachsmann-Straße\, Zinnowitz
ORGANIZER;CN=Eigenbetrieb Kurverwaltung der Gemeinde Ostseebad Zinnowitz:ma
 ilto:info@kv-zinnowitz.de
RRULE:FREQ=WEEKLY;UNTIL=20261028T170000;BYDAY=WE
SEQUENCE:0
SUMMARY:Zinnowitzer Wochenmarkt
UID:e_100858691_iv2
URL:http://pages.destination.one/de/zinnowitz/streaming/detail/Event/e_1008
 58691/zinnowitzer-wochenmarkt
END:VEVENT
BEGIN:VTIMEZONE
TZID:Europe/Berlin
X-LIC-LOCATION:Europe/Berlin
BEGIN:DAYLIGHT
DTSTART:19700329T020000
RRULE:FREQ=YEARLY;BYDAY=-1SU;BYMONTH=3
TZNAME:CEST
TZOFFSETFROM:+0100
TZOFFSETTO:+0200
END:DAYLIGHT
BEGIN:STANDARD
DTSTART:19701025T030000
RRULE:FREQ=YEARLY;BYDAY=-1SU;BYMONTH=10
TZNAME:CET
TZOFFSETFROM:+0200
TZOFFSETTO:+0100
END:STANDARD
END:VTIMEZONE
END:VCALENDAR
