BEGIN:VCALENDAR
VERSION:2.0
PRODID:-//destination.one//NONSGML destination.meta API//DE
X-WR-CALDESC:A calendar powered by destination.meta
X-WR-CALNAME:zinnowitz Kalender via destination.meta
BEGIN:VEVENT
CATEGORIES:Highlights
CATEGORIES:Musik
CATEGORIES:Szene
CATEGORIES:Tanzen
DESCRIPTION:\n\nmehr Informationen unter http://pages.destination.one/de/zi
 nnowitz/streaming/detail/Event/e_100916394/bettenball-des-ccz-e-v
DTEND;TZID=Europe/Berlin:20241117T023000
DTSTAMP:20260422T084825Z
DTSTART;TZID=Europe/Berlin:20241116T201100
GEO:54.081850;13.902720
LOCATION:Sportschule\, Dr.-Wachsmann-Straße 30\, Zinnowitz
SEQUENCE:0
SUMMARY:Bettenball des CCZ e.V.
UID:e_100916394_iv0
URL:http://pages.destination.one/de/zinnowitz/streaming/detail/Event/e_1009
 16394/bettenball-des-ccz-e-v
END:VEVENT
BEGIN:VEVENT
CATEGORIES:Highlights
CATEGORIES:Musik
CATEGORIES:Szene
CATEGORIES:Tanzen
DESCRIPTION:\n\nmehr Informationen unter http://pages.destination.one/de/zi
 nnowitz/streaming/detail/Event/e_100916394/bettenball-des-ccz-e-v
DTEND;TZID=Europe/Berlin:20251115T235900
DTSTAMP:20260422T084825Z
DTSTART;TZID=Europe/Berlin:20251115T201100
GEO:54.081850;13.902720
LOCATION:Sportschule\, Dr.-Wachsmann-Straße 30\, Zinnowitz
SEQUENCE:0
SUMMARY:Bettenball des CCZ e.V.
UID:e_100916394_iv1
URL:http://pages.destination.one/de/zinnowitz/streaming/detail/Event/e_1009
 16394/bettenball-des-ccz-e-v
END:VEVENT
BEGIN:VEVENT
CATEGORIES:Highlights
CATEGORIES:Musik
CATEGORIES:Szene
CATEGORIES:Tanzen
DESCRIPTION:\n\nmehr Informationen unter http://pages.destination.one/de/zi
 nnowitz/streaming/detail/Event/e_100916394/bettenball-des-ccz-e-v
DTEND;TZID=Europe/Berlin:20261122T023000
DTSTAMP:20260422T084825Z
DTSTART;TZID=Europe/Berlin:20261121T201100
GEO:54.081850;13.902720
LOCATION:Sportschule\, Dr.-Wachsmann-Straße 30\, Zinnowitz
SEQUENCE:0
SUMMARY:Bettenball des CCZ e.V.
UID:e_100916394_iv2
URL:http://pages.destination.one/de/zinnowitz/streaming/detail/Event/e_1009
 16394/bettenball-des-ccz-e-v
END:VEVENT
BEGIN:VTIMEZONE
TZID:Europe/Berlin
X-LIC-LOCATION:Europe/Berlin
BEGIN:DAYLIGHT
DTSTART:19700329T020000
RRULE:FREQ=YEARLY;BYDAY=-1SU;BYMONTH=3
TZNAME:CEST
TZOFFSETFROM:+0100
TZOFFSETTO:+0200
END:DAYLIGHT
BEGIN:STANDARD
DTSTART:19701025T030000
RRULE:FREQ=YEARLY;BYDAY=-1SU;BYMONTH=10
TZNAME:CET
TZOFFSETFROM:+0200
TZOFFSETTO:+0100
END:STANDARD
END:VTIMEZONE
END:VCALENDAR
