BEGIN:VCALENDAR
VERSION:2.0
PRODID:-//destination.one//NONSGML destination.meta API//DE
X-WR-CALDESC:A calendar powered by destination.meta
X-WR-CALNAME:zinnowitz Kalender via destination.meta
BEGIN:VEVENT
CATEGORIES:Führung/Exkursion
CATEGORIES:Gesundheit
CATEGORIES:Natur
CATEGORIES:UsedomCard
CATEGORIES:Wandern
DESCRIPTION:\n\nmehr Informationen unter http://pages.destination.one/de/zi
 nnowitz/streaming/detail/Event/e_101000741/strandwanderung-mit-ingo-zander
DTEND;TZID=Europe/Berlin:20251101T113000
DTSTAMP:20260421T084521Z
DTSTART;TZID=Europe/Berlin:20251101T100000
GEO:54.080466;13.914850
LOCATION:Haus des Gastes\, Neue Strandstraße 30\, Zinnowitz
ORGANIZER;CN=Eigenbetrieb Kurverwaltung der Gemeinde Ostseebad Zinnowitz:ma
 ilto:info@kv-zinnowitz.de
SEQUENCE:0
SUMMARY:Strandwanderung mit Ingo Zander
UID:e_101000741_iv0
URL:http://pages.destination.one/de/zinnowitz/streaming/detail/Event/e_1010
 00741/strandwanderung-mit-ingo-zander
END:VEVENT
BEGIN:VEVENT
CATEGORIES:Führung/Exkursion
CATEGORIES:Gesundheit
CATEGORIES:Natur
CATEGORIES:UsedomCard
CATEGORIES:Wandern
DESCRIPTION:\n\nmehr Informationen unter http://pages.destination.one/de/zi
 nnowitz/streaming/detail/Event/e_101000741/strandwanderung-mit-ingo-zander
DTEND;TZID=Europe/Berlin:20260314T113000
DTSTAMP:20260421T084521Z
DTSTART;TZID=Europe/Berlin:20260314T100000
GEO:54.080466;13.914850
LOCATION:Haus des Gastes\, Neue Strandstraße 30\, Zinnowitz
ORGANIZER;CN=Eigenbetrieb Kurverwaltung der Gemeinde Ostseebad Zinnowitz:ma
 ilto:info@kv-zinnowitz.de
SEQUENCE:0
SUMMARY:Strandwanderung mit Ingo Zander
UID:e_101000741_iv1
URL:http://pages.destination.one/de/zinnowitz/streaming/detail/Event/e_1010
 00741/strandwanderung-mit-ingo-zander
END:VEVENT
BEGIN:VEVENT
CATEGORIES:Führung/Exkursion
CATEGORIES:Gesundheit
CATEGORIES:Natur
CATEGORIES:UsedomCard
CATEGORIES:Wandern
DESCRIPTION:\n\nmehr Informationen unter http://pages.destination.one/de/zi
 nnowitz/streaming/detail/Event/e_101000741/strandwanderung-mit-ingo-zander
DTEND;TZID=Europe/Berlin:20260328T113000
DTSTAMP:20260421T084521Z
DTSTART;TZID=Europe/Berlin:20260328T100000
GEO:54.080466;13.914850
LOCATION:Haus des Gastes\, Neue Strandstraße 30\, Zinnowitz
ORGANIZER;CN=Eigenbetrieb Kurverwaltung der Gemeinde Ostseebad Zinnowitz:ma
 ilto:info@kv-zinnowitz.de
SEQUENCE:0
SUMMARY:Strandwanderung mit Ingo Zander
UID:e_101000741_iv2
URL:http://pages.destination.one/de/zinnowitz/streaming/detail/Event/e_1010
 00741/strandwanderung-mit-ingo-zander
END:VEVENT
BEGIN:VEVENT
CATEGORIES:Führung/Exkursion
CATEGORIES:Gesundheit
CATEGORIES:Natur
CATEGORIES:UsedomCard
CATEGORIES:Wandern
DESCRIPTION:\n\nmehr Informationen unter http://pages.destination.one/de/zi
 nnowitz/streaming/detail/Event/e_101000741/strandwanderung-mit-ingo-zander
DTEND;TZID=Europe/Berlin:20260520T113000
DTSTAMP:20260421T084521Z
DTSTART;TZID=Europe/Berlin:20260520T100000
GEO:54.080466;13.914850
LOCATION:Haus des Gastes\, Neue Strandstraße 30\, Zinnowitz
ORGANIZER;CN=Eigenbetrieb Kurverwaltung der Gemeinde Ostseebad Zinnowitz:ma
 ilto:info@kv-zinnowitz.de
SEQUENCE:0
SUMMARY:Strandwanderung mit Ingo Zander
UID:e_101000741_iv3
URL:http://pages.destination.one/de/zinnowitz/streaming/detail/Event/e_1010
 00741/strandwanderung-mit-ingo-zander
END:VEVENT
BEGIN:VEVENT
CATEGORIES:Führung/Exkursion
CATEGORIES:Gesundheit
CATEGORIES:Natur
CATEGORIES:UsedomCard
CATEGORIES:Wandern
DESCRIPTION:\n\nmehr Informationen unter http://pages.destination.one/de/zi
 nnowitz/streaming/detail/Event/e_101000741/strandwanderung-mit-ingo-zander
DTEND;TZID=Europe/Berlin:20260919T113000
DTSTAMP:20260421T084521Z
DTSTART;TZID=Europe/Berlin:20260919T100000
GEO:54.080466;13.914850
LOCATION:Haus des Gastes\, Neue Strandstraße 30\, Zinnowitz
ORGANIZER;CN=Eigenbetrieb Kurverwaltung der Gemeinde Ostseebad Zinnowitz:ma
 ilto:info@kv-zinnowitz.de
SEQUENCE:0
SUMMARY:Strandwanderung mit Ingo Zander
UID:e_101000741_iv4
URL:http://pages.destination.one/de/zinnowitz/streaming/detail/Event/e_1010
 00741/strandwanderung-mit-ingo-zander
END:VEVENT
BEGIN:VEVENT
CATEGORIES:Führung/Exkursion
CATEGORIES:Gesundheit
CATEGORIES:Natur
CATEGORIES:UsedomCard
CATEGORIES:Wandern
DESCRIPTION:\n\nmehr Informationen unter http://pages.destination.one/de/zi
 nnowitz/streaming/detail/Event/e_101000741/strandwanderung-mit-ingo-zander
DTEND;TZID=Europe/Berlin:20261017T113000
DTSTAMP:20260421T084521Z
DTSTART;TZID=Europe/Berlin:20261017T100000
GEO:54.080466;13.914850
LOCATION:Haus des Gastes\, Neue Strandstraße 30\, Zinnowitz
ORGANIZER;CN=Eigenbetrieb Kurverwaltung der Gemeinde Ostseebad Zinnowitz:ma
 ilto:info@kv-zinnowitz.de
SEQUENCE:0
SUMMARY:Strandwanderung mit Ingo Zander
UID:e_101000741_iv5
URL:http://pages.destination.one/de/zinnowitz/streaming/detail/Event/e_1010
 00741/strandwanderung-mit-ingo-zander
END:VEVENT
BEGIN:VEVENT
CATEGORIES:Führung/Exkursion
CATEGORIES:Gesundheit
CATEGORIES:Natur
CATEGORIES:UsedomCard
CATEGORIES:Wandern
DESCRIPTION:\n\nmehr Informationen unter http://pages.destination.one/de/zi
 nnowitz/streaming/detail/Event/e_101000741/strandwanderung-mit-ingo-zander
DTEND;TZID=Europe/Berlin:20261024T113000
DTSTAMP:20260421T084521Z
DTSTART;TZID=Europe/Berlin:20261024T100000
GEO:54.080466;13.914850
LOCATION:Haus des Gastes\, Neue Strandstraße 30\, Zinnowitz
ORGANIZER;CN=Eigenbetrieb Kurverwaltung der Gemeinde Ostseebad Zinnowitz:ma
 ilto:info@kv-zinnowitz.de
SEQUENCE:0
SUMMARY:Strandwanderung mit Ingo Zander
UID:e_101000741_iv6
URL:http://pages.destination.one/de/zinnowitz/streaming/detail/Event/e_1010
 00741/strandwanderung-mit-ingo-zander
END:VEVENT
BEGIN:VEVENT
CATEGORIES:Führung/Exkursion
CATEGORIES:Gesundheit
CATEGORIES:Natur
CATEGORIES:UsedomCard
CATEGORIES:Wandern
DESCRIPTION:\n\nmehr Informationen unter http://pages.destination.one/de/zi
 nnowitz/streaming/detail/Event/e_101000741/strandwanderung-mit-ingo-zander
DTEND;TZID=Europe/Berlin:20261031T113000
DTSTAMP:20260421T084521Z
DTSTART;TZID=Europe/Berlin:20261031T100000
GEO:54.080466;13.914850
LOCATION:Haus des Gastes\, Neue Strandstraße 30\, Zinnowitz
ORGANIZER;CN=Eigenbetrieb Kurverwaltung der Gemeinde Ostseebad Zinnowitz:ma
 ilto:info@kv-zinnowitz.de
SEQUENCE:0
SUMMARY:Strandwanderung mit Ingo Zander
UID:e_101000741_iv7
URL:http://pages.destination.one/de/zinnowitz/streaming/detail/Event/e_1010
 00741/strandwanderung-mit-ingo-zander
END:VEVENT
BEGIN:VEVENT
CATEGORIES:Führung/Exkursion
CATEGORIES:Gesundheit
CATEGORIES:Natur
CATEGORIES:UsedomCard
CATEGORIES:Wandern
DESCRIPTION:\n\nmehr Informationen unter http://pages.destination.one/de/zi
 nnowitz/streaming/detail/Event/e_101000741/strandwanderung-mit-ingo-zander
DTEND;TZID=Europe/Berlin:20261107T113000
DTSTAMP:20260421T084521Z
DTSTART;TZID=Europe/Berlin:20261107T100000
GEO:54.080466;13.914850
LOCATION:Haus des Gastes\, Neue Strandstraße 30\, Zinnowitz
ORGANIZER;CN=Eigenbetrieb Kurverwaltung der Gemeinde Ostseebad Zinnowitz:ma
 ilto:info@kv-zinnowitz.de
SEQUENCE:0
SUMMARY:Strandwanderung mit Ingo Zander
UID:e_101000741_iv8
URL:http://pages.destination.one/de/zinnowitz/streaming/detail/Event/e_1010
 00741/strandwanderung-mit-ingo-zander
END:VEVENT
BEGIN:VTIMEZONE
TZID:Europe/Berlin
X-LIC-LOCATION:Europe/Berlin
BEGIN:DAYLIGHT
DTSTART:19700329T020000
RRULE:FREQ=YEARLY;BYDAY=-1SU;BYMONTH=3
TZNAME:CEST
TZOFFSETFROM:+0100
TZOFFSETTO:+0200
END:DAYLIGHT
BEGIN:STANDARD
DTSTART:19701025T030000
RRULE:FREQ=YEARLY;BYDAY=-1SU;BYMONTH=10
TZNAME:CET
TZOFFSETFROM:+0200
TZOFFSETTO:+0100
END:STANDARD
END:VTIMEZONE
END:VCALENDAR
