BEGIN:VCALENDAR
VERSION:2.0
PRODID:-//destination.one//NONSGML destination.meta API//DE
X-WR-CALDESC:A calendar powered by destination.meta
X-WR-CALNAME:zinnowitz Kalender via destination.meta
BEGIN:VEVENT
CATEGORIES:Führung/Exkursion
CATEGORIES:Gesundheit
CATEGORIES:Natur
CATEGORIES:UsedomCard
CATEGORIES:Wandern
CATEGORIES:Open Air
DESCRIPTION:\n\nmehr Informationen unter http://pages.destination.one/de/zi
 nnowitz/streaming/detail/Event/e_101013919/waldbaden-mit-erika-lessin
DTEND;TZID=Europe/Berlin:20250507T123000
DTSTAMP:20260422T084755Z
DTSTART;TZID=Europe/Berlin:20250507T110000
GEO:54.080466;13.914850
LOCATION:Haus des Gastes\, Neue Strandstraße 30\, Zinnowitz
SEQUENCE:0
SUMMARY:Waldbaden mit Erika Lessin
UID:e_101013919_iv0
URL:http://pages.destination.one/de/zinnowitz/streaming/detail/Event/e_1010
 13919/waldbaden-mit-erika-lessin
END:VEVENT
BEGIN:VEVENT
CATEGORIES:Führung/Exkursion
CATEGORIES:Gesundheit
CATEGORIES:Natur
CATEGORIES:UsedomCard
CATEGORIES:Wandern
CATEGORIES:Open Air
DESCRIPTION:\n\nmehr Informationen unter http://pages.destination.one/de/zi
 nnowitz/streaming/detail/Event/e_101013919/waldbaden-mit-erika-lessin
DTEND;TZID=Europe/Berlin:20250521T123000
DTSTAMP:20260422T084755Z
DTSTART;TZID=Europe/Berlin:20250521T110000
GEO:54.080466;13.914850
LOCATION:Haus des Gastes\, Neue Strandstraße 30\, Zinnowitz
SEQUENCE:0
SUMMARY:Waldbaden mit Erika Lessin
UID:e_101013919_iv1
URL:http://pages.destination.one/de/zinnowitz/streaming/detail/Event/e_1010
 13919/waldbaden-mit-erika-lessin
END:VEVENT
BEGIN:VEVENT
CATEGORIES:Führung/Exkursion
CATEGORIES:Gesundheit
CATEGORIES:Natur
CATEGORIES:UsedomCard
CATEGORIES:Wandern
CATEGORIES:Open Air
DESCRIPTION:\n\nmehr Informationen unter http://pages.destination.one/de/zi
 nnowitz/streaming/detail/Event/e_101013919/waldbaden-mit-erika-lessin
DTEND;TZID=Europe/Berlin:20250528T123000
DTSTAMP:20260422T084755Z
DTSTART;TZID=Europe/Berlin:20250528T110000
GEO:54.080466;13.914850
LOCATION:Haus des Gastes\, Neue Strandstraße 30\, Zinnowitz
SEQUENCE:0
SUMMARY:Waldbaden mit Erika Lessin
UID:e_101013919_iv2
URL:http://pages.destination.one/de/zinnowitz/streaming/detail/Event/e_1010
 13919/waldbaden-mit-erika-lessin
END:VEVENT
BEGIN:VEVENT
CATEGORIES:Führung/Exkursion
CATEGORIES:Gesundheit
CATEGORIES:Natur
CATEGORIES:UsedomCard
CATEGORIES:Wandern
CATEGORIES:Open Air
DESCRIPTION:\n\nmehr Informationen unter http://pages.destination.one/de/zi
 nnowitz/streaming/detail/Event/e_101013919/waldbaden-mit-erika-lessin
DTEND;TZID=Europe/Berlin:20250618T123000
DTSTAMP:20260422T084755Z
DTSTART;TZID=Europe/Berlin:20250618T110000
GEO:54.080466;13.914850
LOCATION:Haus des Gastes\, Neue Strandstraße 30\, Zinnowitz
SEQUENCE:0
SUMMARY:Waldbaden mit Erika Lessin
UID:e_101013919_iv3
URL:http://pages.destination.one/de/zinnowitz/streaming/detail/Event/e_1010
 13919/waldbaden-mit-erika-lessin
END:VEVENT
BEGIN:VEVENT
CATEGORIES:Führung/Exkursion
CATEGORIES:Gesundheit
CATEGORIES:Natur
CATEGORIES:UsedomCard
CATEGORIES:Wandern
CATEGORIES:Open Air
DESCRIPTION:\n\nmehr Informationen unter http://pages.destination.one/de/zi
 nnowitz/streaming/detail/Event/e_101013919/waldbaden-mit-erika-lessin
DTEND;TZID=Europe/Berlin:20250625T123000
DTSTAMP:20260422T084755Z
DTSTART;TZID=Europe/Berlin:20250625T110000
GEO:54.080466;13.914850
LOCATION:Haus des Gastes\, Neue Strandstraße 30\, Zinnowitz
SEQUENCE:0
SUMMARY:Waldbaden mit Erika Lessin
UID:e_101013919_iv4
URL:http://pages.destination.one/de/zinnowitz/streaming/detail/Event/e_1010
 13919/waldbaden-mit-erika-lessin
END:VEVENT
BEGIN:VEVENT
CATEGORIES:Führung/Exkursion
CATEGORIES:Gesundheit
CATEGORIES:Natur
CATEGORIES:UsedomCard
CATEGORIES:Wandern
CATEGORIES:Open Air
DESCRIPTION:\n\nmehr Informationen unter http://pages.destination.one/de/zi
 nnowitz/streaming/detail/Event/e_101013919/waldbaden-mit-erika-lessin
DTEND;TZID=Europe/Berlin:20250917T120000
DTSTAMP:20260422T084755Z
DTSTART;TZID=Europe/Berlin:20250917T110000
GEO:54.080466;13.914850
LOCATION:Haus des Gastes\, Neue Strandstraße 30\, Zinnowitz
SEQUENCE:0
SUMMARY:Waldbaden mit Erika Lessin
UID:e_101013919_iv5
URL:http://pages.destination.one/de/zinnowitz/streaming/detail/Event/e_1010
 13919/waldbaden-mit-erika-lessin
END:VEVENT
BEGIN:VEVENT
CATEGORIES:Führung/Exkursion
CATEGORIES:Gesundheit
CATEGORIES:Natur
CATEGORIES:UsedomCard
CATEGORIES:Wandern
CATEGORIES:Open Air
DESCRIPTION:\n\nmehr Informationen unter http://pages.destination.one/de/zi
 nnowitz/streaming/detail/Event/e_101013919/waldbaden-mit-erika-lessin
DTEND;TZID=Europe/Berlin:20251001T120000
DTSTAMP:20260422T084755Z
DTSTART;TZID=Europe/Berlin:20251001T110000
GEO:54.080466;13.914850
LOCATION:Haus des Gastes\, Neue Strandstraße 30\, Zinnowitz
SEQUENCE:0
SUMMARY:Waldbaden mit Erika Lessin
UID:e_101013919_iv6
URL:http://pages.destination.one/de/zinnowitz/streaming/detail/Event/e_1010
 13919/waldbaden-mit-erika-lessin
END:VEVENT
BEGIN:VEVENT
CATEGORIES:Führung/Exkursion
CATEGORIES:Gesundheit
CATEGORIES:Natur
CATEGORIES:UsedomCard
CATEGORIES:Wandern
CATEGORIES:Open Air
DESCRIPTION:\n\nmehr Informationen unter http://pages.destination.one/de/zi
 nnowitz/streaming/detail/Event/e_101013919/waldbaden-mit-erika-lessin
DTEND;TZID=Europe/Berlin:20251008T120000
DTSTAMP:20260422T084755Z
DTSTART;TZID=Europe/Berlin:20251008T110000
GEO:54.080466;13.914850
LOCATION:Haus des Gastes\, Neue Strandstraße 30\, Zinnowitz
SEQUENCE:0
SUMMARY:Waldbaden mit Erika Lessin
UID:e_101013919_iv7
URL:http://pages.destination.one/de/zinnowitz/streaming/detail/Event/e_1010
 13919/waldbaden-mit-erika-lessin
END:VEVENT
BEGIN:VEVENT
CATEGORIES:Führung/Exkursion
CATEGORIES:Gesundheit
CATEGORIES:Natur
CATEGORIES:UsedomCard
CATEGORIES:Wandern
CATEGORIES:Open Air
DESCRIPTION:\n\nmehr Informationen unter http://pages.destination.one/de/zi
 nnowitz/streaming/detail/Event/e_101013919/waldbaden-mit-erika-lessin
DTEND;TZID=Europe/Berlin:20251022T120000
DTSTAMP:20260422T084755Z
DTSTART;TZID=Europe/Berlin:20251022T110000
GEO:54.080466;13.914850
LOCATION:Haus des Gastes\, Neue Strandstraße 30\, Zinnowitz
SEQUENCE:0
SUMMARY:Waldbaden mit Erika Lessin
UID:e_101013919_iv8
URL:http://pages.destination.one/de/zinnowitz/streaming/detail/Event/e_1010
 13919/waldbaden-mit-erika-lessin
END:VEVENT
BEGIN:VEVENT
CATEGORIES:Führung/Exkursion
CATEGORIES:Gesundheit
CATEGORIES:Natur
CATEGORIES:UsedomCard
CATEGORIES:Wandern
CATEGORIES:Open Air
DESCRIPTION:\n\nmehr Informationen unter http://pages.destination.one/de/zi
 nnowitz/streaming/detail/Event/e_101013919/waldbaden-mit-erika-lessin
DTEND;TZID=Europe/Berlin:20260518T153000
DTSTAMP:20260422T084755Z
DTSTART;TZID=Europe/Berlin:20260518T140000
GEO:54.080466;13.914850
LOCATION:Haus des Gastes\, Neue Strandstraße 30\, Zinnowitz
SEQUENCE:0
SUMMARY:Waldbaden mit Erika Lessin
UID:e_101013919_iv9
URL:http://pages.destination.one/de/zinnowitz/streaming/detail/Event/e_1010
 13919/waldbaden-mit-erika-lessin
END:VEVENT
BEGIN:VEVENT
CATEGORIES:Führung/Exkursion
CATEGORIES:Gesundheit
CATEGORIES:Natur
CATEGORIES:UsedomCard
CATEGORIES:Wandern
CATEGORIES:Open Air
DESCRIPTION:\n\nmehr Informationen unter http://pages.destination.one/de/zi
 nnowitz/streaming/detail/Event/e_101013919/waldbaden-mit-erika-lessin
DTEND;TZID=Europe/Berlin:20260525T153000
DTSTAMP:20260422T084755Z
DTSTART;TZID=Europe/Berlin:20260525T140000
GEO:54.080466;13.914850
LOCATION:Haus des Gastes\, Neue Strandstraße 30\, Zinnowitz
SEQUENCE:0
SUMMARY:Waldbaden mit Erika Lessin
UID:e_101013919_iv10
URL:http://pages.destination.one/de/zinnowitz/streaming/detail/Event/e_1010
 13919/waldbaden-mit-erika-lessin
END:VEVENT
BEGIN:VEVENT
CATEGORIES:Führung/Exkursion
CATEGORIES:Gesundheit
CATEGORIES:Natur
CATEGORIES:UsedomCard
CATEGORIES:Wandern
CATEGORIES:Open Air
DESCRIPTION:\n\nmehr Informationen unter http://pages.destination.one/de/zi
 nnowitz/streaming/detail/Event/e_101013919/waldbaden-mit-erika-lessin
DTEND;TZID=Europe/Berlin:20260601T153000
DTSTAMP:20260422T084755Z
DTSTART;TZID=Europe/Berlin:20260601T140000
GEO:54.080466;13.914850
LOCATION:Haus des Gastes\, Neue Strandstraße 30\, Zinnowitz
SEQUENCE:0
SUMMARY:Waldbaden mit Erika Lessin
UID:e_101013919_iv11
URL:http://pages.destination.one/de/zinnowitz/streaming/detail/Event/e_1010
 13919/waldbaden-mit-erika-lessin
END:VEVENT
BEGIN:VEVENT
CATEGORIES:Führung/Exkursion
CATEGORIES:Gesundheit
CATEGORIES:Natur
CATEGORIES:UsedomCard
CATEGORIES:Wandern
CATEGORIES:Open Air
DESCRIPTION:\n\nmehr Informationen unter http://pages.destination.one/de/zi
 nnowitz/streaming/detail/Event/e_101013919/waldbaden-mit-erika-lessin
DTEND;TZID=Europe/Berlin:20260615T153000
DTSTAMP:20260422T084755Z
DTSTART;TZID=Europe/Berlin:20260615T140000
GEO:54.080466;13.914850
LOCATION:Haus des Gastes\, Neue Strandstraße 30\, Zinnowitz
SEQUENCE:0
SUMMARY:Waldbaden mit Erika Lessin
UID:e_101013919_iv12
URL:http://pages.destination.one/de/zinnowitz/streaming/detail/Event/e_1010
 13919/waldbaden-mit-erika-lessin
END:VEVENT
BEGIN:VEVENT
CATEGORIES:Führung/Exkursion
CATEGORIES:Gesundheit
CATEGORIES:Natur
CATEGORIES:UsedomCard
CATEGORIES:Wandern
CATEGORIES:Open Air
DESCRIPTION:\n\nmehr Informationen unter http://pages.destination.one/de/zi
 nnowitz/streaming/detail/Event/e_101013919/waldbaden-mit-erika-lessin
DTEND;TZID=Europe/Berlin:20260622T153000
DTSTAMP:20260422T084755Z
DTSTART;TZID=Europe/Berlin:20260622T140000
GEO:54.080466;13.914850
LOCATION:Haus des Gastes\, Neue Strandstraße 30\, Zinnowitz
SEQUENCE:0
SUMMARY:Waldbaden mit Erika Lessin
UID:e_101013919_iv13
URL:http://pages.destination.one/de/zinnowitz/streaming/detail/Event/e_1010
 13919/waldbaden-mit-erika-lessin
END:VEVENT
BEGIN:VEVENT
CATEGORIES:Führung/Exkursion
CATEGORIES:Gesundheit
CATEGORIES:Natur
CATEGORIES:UsedomCard
CATEGORIES:Wandern
CATEGORIES:Open Air
DESCRIPTION:\n\nmehr Informationen unter http://pages.destination.one/de/zi
 nnowitz/streaming/detail/Event/e_101013919/waldbaden-mit-erika-lessin
DTEND;TZID=Europe/Berlin:20260629T153000
DTSTAMP:20260422T084755Z
DTSTART;TZID=Europe/Berlin:20260629T140000
GEO:54.080466;13.914850
LOCATION:Haus des Gastes\, Neue Strandstraße 30\, Zinnowitz
SEQUENCE:0
SUMMARY:Waldbaden mit Erika Lessin
UID:e_101013919_iv14
URL:http://pages.destination.one/de/zinnowitz/streaming/detail/Event/e_1010
 13919/waldbaden-mit-erika-lessin
END:VEVENT
BEGIN:VEVENT
CATEGORIES:Führung/Exkursion
CATEGORIES:Gesundheit
CATEGORIES:Natur
CATEGORIES:UsedomCard
CATEGORIES:Wandern
CATEGORIES:Open Air
DESCRIPTION:\n\nmehr Informationen unter http://pages.destination.one/de/zi
 nnowitz/streaming/detail/Event/e_101013919/waldbaden-mit-erika-lessin
DTEND;TZID=Europe/Berlin:20260713T153000
DTSTAMP:20260422T084755Z
DTSTART;TZID=Europe/Berlin:20260713T140000
GEO:54.080466;13.914850
LOCATION:Haus des Gastes\, Neue Strandstraße 30\, Zinnowitz
SEQUENCE:0
SUMMARY:Waldbaden mit Erika Lessin
UID:e_101013919_iv15
URL:http://pages.destination.one/de/zinnowitz/streaming/detail/Event/e_1010
 13919/waldbaden-mit-erika-lessin
END:VEVENT
BEGIN:VEVENT
CATEGORIES:Führung/Exkursion
CATEGORIES:Gesundheit
CATEGORIES:Natur
CATEGORIES:UsedomCard
CATEGORIES:Wandern
CATEGORIES:Open Air
DESCRIPTION:\n\nmehr Informationen unter http://pages.destination.one/de/zi
 nnowitz/streaming/detail/Event/e_101013919/waldbaden-mit-erika-lessin
DTEND;TZID=Europe/Berlin:20260720T153000
DTSTAMP:20260422T084755Z
DTSTART;TZID=Europe/Berlin:20260720T140000
GEO:54.080466;13.914850
LOCATION:Haus des Gastes\, Neue Strandstraße 30\, Zinnowitz
SEQUENCE:0
SUMMARY:Waldbaden mit Erika Lessin
UID:e_101013919_iv16
URL:http://pages.destination.one/de/zinnowitz/streaming/detail/Event/e_1010
 13919/waldbaden-mit-erika-lessin
END:VEVENT
BEGIN:VEVENT
CATEGORIES:Führung/Exkursion
CATEGORIES:Gesundheit
CATEGORIES:Natur
CATEGORIES:UsedomCard
CATEGORIES:Wandern
CATEGORIES:Open Air
DESCRIPTION:\n\nmehr Informationen unter http://pages.destination.one/de/zi
 nnowitz/streaming/detail/Event/e_101013919/waldbaden-mit-erika-lessin
DTEND;TZID=Europe/Berlin:20260727T153000
DTSTAMP:20260422T084755Z
DTSTART;TZID=Europe/Berlin:20260727T140000
GEO:54.080466;13.914850
LOCATION:Haus des Gastes\, Neue Strandstraße 30\, Zinnowitz
SEQUENCE:0
SUMMARY:Waldbaden mit Erika Lessin
UID:e_101013919_iv17
URL:http://pages.destination.one/de/zinnowitz/streaming/detail/Event/e_1010
 13919/waldbaden-mit-erika-lessin
END:VEVENT
BEGIN:VEVENT
CATEGORIES:Führung/Exkursion
CATEGORIES:Gesundheit
CATEGORIES:Natur
CATEGORIES:UsedomCard
CATEGORIES:Wandern
CATEGORIES:Open Air
DESCRIPTION:\n\nmehr Informationen unter http://pages.destination.one/de/zi
 nnowitz/streaming/detail/Event/e_101013919/waldbaden-mit-erika-lessin
DTEND;TZID=Europe/Berlin:20260803T153000
DTSTAMP:20260422T084755Z
DTSTART;TZID=Europe/Berlin:20260803T140000
GEO:54.080466;13.914850
LOCATION:Haus des Gastes\, Neue Strandstraße 30\, Zinnowitz
SEQUENCE:0
SUMMARY:Waldbaden mit Erika Lessin
UID:e_101013919_iv18
URL:http://pages.destination.one/de/zinnowitz/streaming/detail/Event/e_1010
 13919/waldbaden-mit-erika-lessin
END:VEVENT
BEGIN:VEVENT
CATEGORIES:Führung/Exkursion
CATEGORIES:Gesundheit
CATEGORIES:Natur
CATEGORIES:UsedomCard
CATEGORIES:Wandern
CATEGORIES:Open Air
DESCRIPTION:\n\nmehr Informationen unter http://pages.destination.one/de/zi
 nnowitz/streaming/detail/Event/e_101013919/waldbaden-mit-erika-lessin
DTEND;TZID=Europe/Berlin:20260810T153000
DTSTAMP:20260422T084755Z
DTSTART;TZID=Europe/Berlin:20260810T140000
GEO:54.080466;13.914850
LOCATION:Haus des Gastes\, Neue Strandstraße 30\, Zinnowitz
SEQUENCE:0
SUMMARY:Waldbaden mit Erika Lessin
UID:e_101013919_iv19
URL:http://pages.destination.one/de/zinnowitz/streaming/detail/Event/e_1010
 13919/waldbaden-mit-erika-lessin
END:VEVENT
BEGIN:VEVENT
CATEGORIES:Führung/Exkursion
CATEGORIES:Gesundheit
CATEGORIES:Natur
CATEGORIES:UsedomCard
CATEGORIES:Wandern
CATEGORIES:Open Air
DESCRIPTION:\n\nmehr Informationen unter http://pages.destination.one/de/zi
 nnowitz/streaming/detail/Event/e_101013919/waldbaden-mit-erika-lessin
DTEND;TZID=Europe/Berlin:20260907T153000
DTSTAMP:20260422T084755Z
DTSTART;TZID=Europe/Berlin:20260907T140000
GEO:54.080466;13.914850
LOCATION:Haus des Gastes\, Neue Strandstraße 30\, Zinnowitz
SEQUENCE:0
SUMMARY:Waldbaden mit Erika Lessin
UID:e_101013919_iv20
URL:http://pages.destination.one/de/zinnowitz/streaming/detail/Event/e_1010
 13919/waldbaden-mit-erika-lessin
END:VEVENT
BEGIN:VEVENT
CATEGORIES:Führung/Exkursion
CATEGORIES:Gesundheit
CATEGORIES:Natur
CATEGORIES:UsedomCard
CATEGORIES:Wandern
CATEGORIES:Open Air
DESCRIPTION:\n\nmehr Informationen unter http://pages.destination.one/de/zi
 nnowitz/streaming/detail/Event/e_101013919/waldbaden-mit-erika-lessin
DTEND;TZID=Europe/Berlin:20260914T153000
DTSTAMP:20260422T084755Z
DTSTART;TZID=Europe/Berlin:20260914T140000
GEO:54.080466;13.914850
LOCATION:Haus des Gastes\, Neue Strandstraße 30\, Zinnowitz
SEQUENCE:0
SUMMARY:Waldbaden mit Erika Lessin
UID:e_101013919_iv21
URL:http://pages.destination.one/de/zinnowitz/streaming/detail/Event/e_1010
 13919/waldbaden-mit-erika-lessin
END:VEVENT
BEGIN:VEVENT
CATEGORIES:Führung/Exkursion
CATEGORIES:Gesundheit
CATEGORIES:Natur
CATEGORIES:UsedomCard
CATEGORIES:Wandern
CATEGORIES:Open Air
DESCRIPTION:\n\nmehr Informationen unter http://pages.destination.one/de/zi
 nnowitz/streaming/detail/Event/e_101013919/waldbaden-mit-erika-lessin
DTEND;TZID=Europe/Berlin:20260921T153000
DTSTAMP:20260422T084755Z
DTSTART;TZID=Europe/Berlin:20260921T140000
GEO:54.080466;13.914850
LOCATION:Haus des Gastes\, Neue Strandstraße 30\, Zinnowitz
SEQUENCE:0
SUMMARY:Waldbaden mit Erika Lessin
UID:e_101013919_iv22
URL:http://pages.destination.one/de/zinnowitz/streaming/detail/Event/e_1010
 13919/waldbaden-mit-erika-lessin
END:VEVENT
BEGIN:VEVENT
CATEGORIES:Führung/Exkursion
CATEGORIES:Gesundheit
CATEGORIES:Natur
CATEGORIES:UsedomCard
CATEGORIES:Wandern
CATEGORIES:Open Air
DESCRIPTION:\n\nmehr Informationen unter http://pages.destination.one/de/zi
 nnowitz/streaming/detail/Event/e_101013919/waldbaden-mit-erika-lessin
DTEND;TZID=Europe/Berlin:20260928T153000
DTSTAMP:20260422T084755Z
DTSTART;TZID=Europe/Berlin:20260928T140000
GEO:54.080466;13.914850
LOCATION:Haus des Gastes\, Neue Strandstraße 30\, Zinnowitz
SEQUENCE:0
SUMMARY:Waldbaden mit Erika Lessin
UID:e_101013919_iv23
URL:http://pages.destination.one/de/zinnowitz/streaming/detail/Event/e_1010
 13919/waldbaden-mit-erika-lessin
END:VEVENT
BEGIN:VEVENT
CATEGORIES:Führung/Exkursion
CATEGORIES:Gesundheit
CATEGORIES:Natur
CATEGORIES:UsedomCard
CATEGORIES:Wandern
CATEGORIES:Open Air
DESCRIPTION:\n\nmehr Informationen unter http://pages.destination.one/de/zi
 nnowitz/streaming/detail/Event/e_101013919/waldbaden-mit-erika-lessin
DTEND;TZID=Europe/Berlin:20261012T153000
DTSTAMP:20260422T084755Z
DTSTART;TZID=Europe/Berlin:20261012T140000
GEO:54.080466;13.914850
LOCATION:Haus des Gastes\, Neue Strandstraße 30\, Zinnowitz
SEQUENCE:0
SUMMARY:Waldbaden mit Erika Lessin
UID:e_101013919_iv24
URL:http://pages.destination.one/de/zinnowitz/streaming/detail/Event/e_1010
 13919/waldbaden-mit-erika-lessin
END:VEVENT
BEGIN:VEVENT
CATEGORIES:Führung/Exkursion
CATEGORIES:Gesundheit
CATEGORIES:Natur
CATEGORIES:UsedomCard
CATEGORIES:Wandern
CATEGORIES:Open Air
DESCRIPTION:\n\nmehr Informationen unter http://pages.destination.one/de/zi
 nnowitz/streaming/detail/Event/e_101013919/waldbaden-mit-erika-lessin
DTEND;TZID=Europe/Berlin:20261019T153000
DTSTAMP:20260422T084755Z
DTSTART;TZID=Europe/Berlin:20261019T140000
GEO:54.080466;13.914850
LOCATION:Haus des Gastes\, Neue Strandstraße 30\, Zinnowitz
SEQUENCE:0
SUMMARY:Waldbaden mit Erika Lessin
UID:e_101013919_iv25
URL:http://pages.destination.one/de/zinnowitz/streaming/detail/Event/e_1010
 13919/waldbaden-mit-erika-lessin
END:VEVENT
BEGIN:VTIMEZONE
TZID:Europe/Berlin
X-LIC-LOCATION:Europe/Berlin
BEGIN:DAYLIGHT
DTSTART:19700329T020000
RRULE:FREQ=YEARLY;BYDAY=-1SU;BYMONTH=3
TZNAME:CEST
TZOFFSETFROM:+0100
TZOFFSETTO:+0200
END:DAYLIGHT
BEGIN:STANDARD
DTSTART:19701025T030000
RRULE:FREQ=YEARLY;BYDAY=-1SU;BYMONTH=10
TZNAME:CET
TZOFFSETFROM:+0200
TZOFFSETTO:+0100
END:STANDARD
END:VTIMEZONE
END:VCALENDAR
