BEGIN:VCALENDAR
VERSION:2.0
PRODID:-//destination.one//NONSGML destination.meta API//DE
X-WR-CALDESC:A calendar powered by destination.meta
X-WR-CALNAME:zinnowitz Kalender via destination.meta
BEGIN:VEVENT
CATEGORIES:Natur
CATEGORIES:UsedomCard
CATEGORIES:Vortrag
DESCRIPTION:\n\nmehr Informationen unter http://pages.destination.one/de/zi
 nnowitz/streaming/detail/Event/e_101187832/vortrag-usedom-ein-berblick-mit
 -ingo-zander
DTEND;TZID=Europe/Berlin:20260305T183000
DTSTAMP:20260420T104626Z
DTSTART;TZID=Europe/Berlin:20260305T170000
GEO:54.080466;13.914850
LOCATION:Haus des Gastes\, Neue Strandstraße 30\, Zinnowitz
ORGANIZER;CN=Haus des Gastes:mailto:info@kv-zinnowitz.de
SEQUENCE:0
SUMMARY:Vortrag: "Usedom – Ein Überblick" mit Ingo Zander
UID:e_101187832_iv0
URL:http://pages.destination.one/de/zinnowitz/streaming/detail/Event/e_1011
 87832/vortrag-usedom-ein-berblick-mit-ingo-zander
END:VEVENT
BEGIN:VEVENT
CATEGORIES:Natur
CATEGORIES:UsedomCard
CATEGORIES:Vortrag
DESCRIPTION:\n\nmehr Informationen unter http://pages.destination.one/de/zi
 nnowitz/streaming/detail/Event/e_101187832/vortrag-usedom-ein-berblick-mit
 -ingo-zander
DTEND;TZID=Europe/Berlin:20260528T183000
DTSTAMP:20260420T104626Z
DTSTART;TZID=Europe/Berlin:20260528T170000
GEO:54.080466;13.914850
LOCATION:Haus des Gastes\, Neue Strandstraße 30\, Zinnowitz
ORGANIZER;CN=Haus des Gastes:mailto:info@kv-zinnowitz.de
SEQUENCE:0
SUMMARY:Vortrag: "Usedom – Ein Überblick" mit Ingo Zander
UID:e_101187832_iv1
URL:http://pages.destination.one/de/zinnowitz/streaming/detail/Event/e_1011
 87832/vortrag-usedom-ein-berblick-mit-ingo-zander
END:VEVENT
BEGIN:VEVENT
CATEGORIES:Natur
CATEGORIES:UsedomCard
CATEGORIES:Vortrag
DESCRIPTION:\n\nmehr Informationen unter http://pages.destination.one/de/zi
 nnowitz/streaming/detail/Event/e_101187832/vortrag-usedom-ein-berblick-mit
 -ingo-zander
DTEND;TZID=Europe/Berlin:20260910T203000
DTSTAMP:20260420T104626Z
DTSTART;TZID=Europe/Berlin:20260910T190000
GEO:54.080466;13.914850
LOCATION:Haus des Gastes\, Neue Strandstraße 30\, Zinnowitz
ORGANIZER;CN=Haus des Gastes:mailto:info@kv-zinnowitz.de
SEQUENCE:0
SUMMARY:Vortrag: "Usedom – Ein Überblick" mit Ingo Zander
UID:e_101187832_iv2
URL:http://pages.destination.one/de/zinnowitz/streaming/detail/Event/e_1011
 87832/vortrag-usedom-ein-berblick-mit-ingo-zander
END:VEVENT
BEGIN:VTIMEZONE
TZID:Europe/Berlin
X-LIC-LOCATION:Europe/Berlin
BEGIN:DAYLIGHT
DTSTART:19700329T020000
RRULE:FREQ=YEARLY;BYDAY=-1SU;BYMONTH=3
TZNAME:CEST
TZOFFSETFROM:+0100
TZOFFSETTO:+0200
END:DAYLIGHT
BEGIN:STANDARD
DTSTART:19701025T030000
RRULE:FREQ=YEARLY;BYDAY=-1SU;BYMONTH=10
TZNAME:CET
TZOFFSETFROM:+0200
TZOFFSETTO:+0100
END:STANDARD
END:VTIMEZONE
END:VCALENDAR
