BEGIN:VCALENDAR
VERSION:2.0
PRODID:-//destination.one//NONSGML destination.meta API//DE
X-WR-CALDESC:A calendar powered by destination.meta
X-WR-CALNAME:zinnowitz Kalender via destination.meta
BEGIN:VEVENT
CATEGORIES:Natur
CATEGORIES:UsedomCard
CATEGORIES:Vortrag
DESCRIPTION:\n\nmehr Informationen unter http://pages.destination.one/de/zi
 nnowitz/streaming/detail/Event/e_101207503/vortrag-bernstein-das-gold-der-
 ostsee
DTEND;TZID=Europe/Berlin:20260319T183000
DTSTAMP:20260422T084822Z
DTSTART;TZID=Europe/Berlin:20260319T170000
GEO:54.080466;13.914850
LOCATION:Haus des Gastes\, Neue Strandstraße 30\, Zinnowitz
ORGANIZER;CN=Haus des Gastes:mailto:info@kv-zinnowitz.de
SEQUENCE:0
SUMMARY:Vortrag: "Bernstein – das Gold der Ostsee"
UID:e_101207503_iv0
URL:http://pages.destination.one/de/zinnowitz/streaming/detail/Event/e_1012
 07503/vortrag-bernstein-das-gold-der-ostsee
END:VEVENT
BEGIN:VEVENT
CATEGORIES:Natur
CATEGORIES:UsedomCard
CATEGORIES:Vortrag
DESCRIPTION:\n\nmehr Informationen unter http://pages.destination.one/de/zi
 nnowitz/streaming/detail/Event/e_101207503/vortrag-bernstein-das-gold-der-
 ostsee
DTEND;TZID=Europe/Berlin:20260521T183000
DTSTAMP:20260422T084822Z
DTSTART;TZID=Europe/Berlin:20260521T170000
GEO:54.080466;13.914850
LOCATION:Haus des Gastes\, Neue Strandstraße 30\, Zinnowitz
ORGANIZER;CN=Haus des Gastes:mailto:info@kv-zinnowitz.de
SEQUENCE:0
SUMMARY:Vortrag: "Bernstein – das Gold der Ostsee"
UID:e_101207503_iv1
URL:http://pages.destination.one/de/zinnowitz/streaming/detail/Event/e_1012
 07503/vortrag-bernstein-das-gold-der-ostsee
END:VEVENT
BEGIN:VEVENT
CATEGORIES:Natur
CATEGORIES:UsedomCard
CATEGORIES:Vortrag
DESCRIPTION:\n\nmehr Informationen unter http://pages.destination.one/de/zi
 nnowitz/streaming/detail/Event/e_101207503/vortrag-bernstein-das-gold-der-
 ostsee
DTEND;TZID=Europe/Berlin:20260702T203000
DTSTAMP:20260422T084822Z
DTSTART;TZID=Europe/Berlin:20260702T190000
GEO:54.080466;13.914850
LOCATION:Haus des Gastes\, Neue Strandstraße 30\, Zinnowitz
ORGANIZER;CN=Haus des Gastes:mailto:info@kv-zinnowitz.de
SEQUENCE:0
SUMMARY:Vortrag: "Bernstein – das Gold der Ostsee"
UID:e_101207503_iv2
URL:http://pages.destination.one/de/zinnowitz/streaming/detail/Event/e_1012
 07503/vortrag-bernstein-das-gold-der-ostsee
END:VEVENT
BEGIN:VEVENT
CATEGORIES:Natur
CATEGORIES:UsedomCard
CATEGORIES:Vortrag
DESCRIPTION:\n\nmehr Informationen unter http://pages.destination.one/de/zi
 nnowitz/streaming/detail/Event/e_101207503/vortrag-bernstein-das-gold-der-
 ostsee
DTEND;TZID=Europe/Berlin:20260730T213000
DTSTAMP:20260422T084822Z
DTSTART;TZID=Europe/Berlin:20260730T190000
GEO:54.080466;13.914850
LOCATION:Haus des Gastes\, Neue Strandstraße 30\, Zinnowitz
ORGANIZER;CN=Haus des Gastes:mailto:info@kv-zinnowitz.de
SEQUENCE:0
SUMMARY:Vortrag: "Bernstein – das Gold der Ostsee"
UID:e_101207503_iv3
URL:http://pages.destination.one/de/zinnowitz/streaming/detail/Event/e_1012
 07503/vortrag-bernstein-das-gold-der-ostsee
END:VEVENT
BEGIN:VEVENT
CATEGORIES:Natur
CATEGORIES:UsedomCard
CATEGORIES:Vortrag
DESCRIPTION:\n\nmehr Informationen unter http://pages.destination.one/de/zi
 nnowitz/streaming/detail/Event/e_101207503/vortrag-bernstein-das-gold-der-
 ostsee
DTEND;TZID=Europe/Berlin:20260820T203000
DTSTAMP:20260422T084822Z
DTSTART;TZID=Europe/Berlin:20260820T190000
GEO:54.080466;13.914850
LOCATION:Haus des Gastes\, Neue Strandstraße 30\, Zinnowitz
ORGANIZER;CN=Haus des Gastes:mailto:info@kv-zinnowitz.de
SEQUENCE:0
SUMMARY:Vortrag: "Bernstein – das Gold der Ostsee"
UID:e_101207503_iv4
URL:http://pages.destination.one/de/zinnowitz/streaming/detail/Event/e_1012
 07503/vortrag-bernstein-das-gold-der-ostsee
END:VEVENT
BEGIN:VEVENT
CATEGORIES:Natur
CATEGORIES:UsedomCard
CATEGORIES:Vortrag
DESCRIPTION:\n\nmehr Informationen unter http://pages.destination.one/de/zi
 nnowitz/streaming/detail/Event/e_101207503/vortrag-bernstein-das-gold-der-
 ostsee
DTEND;TZID=Europe/Berlin:20261015T183000
DTSTAMP:20260422T084822Z
DTSTART;TZID=Europe/Berlin:20261015T170000
GEO:54.080466;13.914850
LOCATION:Haus des Gastes\, Neue Strandstraße 30\, Zinnowitz
ORGANIZER;CN=Haus des Gastes:mailto:info@kv-zinnowitz.de
SEQUENCE:0
SUMMARY:Vortrag: "Bernstein – das Gold der Ostsee"
UID:e_101207503_iv5
URL:http://pages.destination.one/de/zinnowitz/streaming/detail/Event/e_1012
 07503/vortrag-bernstein-das-gold-der-ostsee
END:VEVENT
BEGIN:VEVENT
CATEGORIES:Natur
CATEGORIES:UsedomCard
CATEGORIES:Vortrag
DESCRIPTION:\n\nmehr Informationen unter http://pages.destination.one/de/zi
 nnowitz/streaming/detail/Event/e_101207503/vortrag-bernstein-das-gold-der-
 ostsee
DTEND;TZID=Europe/Berlin:20261029T183000
DTSTAMP:20260422T084822Z
DTSTART;TZID=Europe/Berlin:20261029T170000
GEO:54.080466;13.914850
LOCATION:Haus des Gastes\, Neue Strandstraße 30\, Zinnowitz
ORGANIZER;CN=Haus des Gastes:mailto:info@kv-zinnowitz.de
SEQUENCE:0
SUMMARY:Vortrag: "Bernstein – das Gold der Ostsee"
UID:e_101207503_iv6
URL:http://pages.destination.one/de/zinnowitz/streaming/detail/Event/e_1012
 07503/vortrag-bernstein-das-gold-der-ostsee
END:VEVENT
BEGIN:VEVENT
CATEGORIES:Natur
CATEGORIES:UsedomCard
CATEGORIES:Vortrag
DESCRIPTION:\n\nmehr Informationen unter http://pages.destination.one/de/zi
 nnowitz/streaming/detail/Event/e_101207503/vortrag-bernstein-das-gold-der-
 ostsee
DTEND;TZID=Europe/Berlin:20261119T183000
DTSTAMP:20260422T084822Z
DTSTART;TZID=Europe/Berlin:20261119T170000
GEO:54.080466;13.914850
LOCATION:Haus des Gastes\, Neue Strandstraße 30\, Zinnowitz
ORGANIZER;CN=Haus des Gastes:mailto:info@kv-zinnowitz.de
SEQUENCE:0
SUMMARY:Vortrag: "Bernstein – das Gold der Ostsee"
UID:e_101207503_iv7
URL:http://pages.destination.one/de/zinnowitz/streaming/detail/Event/e_1012
 07503/vortrag-bernstein-das-gold-der-ostsee
END:VEVENT
BEGIN:VTIMEZONE
TZID:Europe/Berlin
X-LIC-LOCATION:Europe/Berlin
BEGIN:DAYLIGHT
DTSTART:19700329T020000
RRULE:FREQ=YEARLY;BYDAY=-1SU;BYMONTH=3
TZNAME:CEST
TZOFFSETFROM:+0100
TZOFFSETTO:+0200
END:DAYLIGHT
BEGIN:STANDARD
DTSTART:19701025T030000
RRULE:FREQ=YEARLY;BYDAY=-1SU;BYMONTH=10
TZNAME:CET
TZOFFSETFROM:+0200
TZOFFSETTO:+0100
END:STANDARD
END:VTIMEZONE
END:VCALENDAR
