BEGIN:VCALENDAR
VERSION:2.0
PRODID:-//destination.one//NONSGML destination.meta API//DE
X-WR-CALDESC:A calendar powered by destination.meta
X-WR-CALNAME:zinnowitz Kalender via destination.meta
BEGIN:VEVENT
CATEGORIES:UsedomCard
CATEGORIES:Vortrag
DESCRIPTION:\n\nmehr Informationen unter http://pages.destination.one/de/zi
 nnowitz/streaming/detail/Event/e_101255085/vortrag-die-eisenbahnstadt-swin
 em-nde
DTEND;TZID=Europe/Berlin:20260819T203000
DTSTAMP:20260422T085051Z
DTSTART;TZID=Europe/Berlin:20260819T190000
GEO:54.075917;13.903341
LOCATION:Museum im Bahnhof\, Am Bahnhof 1\, Zinnowitz
SEQUENCE:0
SUMMARY:Vortrag: "Die Eisenbahnstadt Swinemünde"
UID:e_101255085_iv0
URL:http://pages.destination.one/de/zinnowitz/streaming/detail/Event/e_1012
 55085/vortrag-die-eisenbahnstadt-swinem-nde
END:VEVENT
BEGIN:VTIMEZONE
TZID:Europe/Berlin
X-LIC-LOCATION:Europe/Berlin
BEGIN:DAYLIGHT
DTSTART:19700329T020000
RRULE:FREQ=YEARLY;BYDAY=-1SU;BYMONTH=3
TZNAME:CEST
TZOFFSETFROM:+0100
TZOFFSETTO:+0200
END:DAYLIGHT
BEGIN:STANDARD
DTSTART:19701025T030000
RRULE:FREQ=YEARLY;BYDAY=-1SU;BYMONTH=10
TZNAME:CET
TZOFFSETFROM:+0200
TZOFFSETTO:+0100
END:STANDARD
END:VTIMEZONE
END:VCALENDAR
